BEGIN:VCALENDAR
VERSION:2.0
PRODID:-//Events | FID-Recht//NONSGML Events//EN
CALSCALE:GREGORIAN
X-ORIGINAL-URL:https://events.intrecht.de/termine/
X-WR-CALDESC:Events | FID-Recht - Events
BEGIN:VEVENT
UID:20220626T1919Z-1656271173.4642-EO-4349-1@172.16.200.151
STATUS:CONFIRMED
DTSTAMP:20260421T184533Z
CREATED:20220623T172521Z
LAST-MODIFIED:20220623T172521Z
DTSTART;VALUE=DATE:20221027
DTEND;VALUE=DATE:20221029
SUMMARY: Criminal Justice in the Prism of Human Rights (Tenth International
  AIDP Symposium for Young Penalists) (Tagung)
DESCRIPTION: 27.-28.10.2022\, Bologna (Frist für Einreichungen: 10.7.2022) 
 10th International AIDP Symposium for Young Penalists | AIDP | Association 
 Internationale De Droit Pénal  
X-ALT-DESC;FMTTYPE=text/html: <p>27.-28.10.2022\, Bologna (Frist für Einrei
 chungen: 10.7.2022)</p><p><a href="https://www.penal.org/de/10th-internatio
 nal-aidp-symposium-young-penalists">10th International AIDP Symposium for Y
 oung Penalists | AIDP | Association Internationale De Droit Pénal</a></p><p
 > </p><p>[av_button label='iCal-Export' link='./feed/eo-events' link_target
 ='' size='small' position='center' label_display='' title_attr='' icon_sele
 ct='yes' icon='ue85b' font='entypo-fontello' color='custom' custom_bg='#b51
 23e' custom_font='#ffffff' av_uid='' id='' custom_class='' admin_preview_bg
 ='']</p>
CATEGORIES:Strafrecht
LOCATION:Ausland
GEO:0.000000;0.000000
ORGANIZER;CN="ViFa-Recht":MAILTO:vifa-recht@sbb.spk-berlin.de
URL;VALUE=URI:https://events.intrecht.de/termine/termin/criminal-justice-in
 -the-prism-of-human-rights-tenth-international-aidp-symposium-for-young-pen
 alists-tagung/
END:VEVENT
BEGIN:VTIMEZONE
TZID:Europe/Berlin
BEGIN:DAYLIGHT
TZOFFSETFROM:+0100
TZOFFSETTO:+0200
DTSTART:20220327T010000
TZNAME:CEST
END:DAYLIGHT
END:VTIMEZONE
END:VCALENDAR
