BEGIN:VCALENDAR
VERSION:2.0
PRODID:-//Events | FID-Recht//NONSGML Events//EN
CALSCALE:GREGORIAN
X-ORIGINAL-URL:https://events.intrecht.de/termine/
X-WR-CALDESC:Events | FID-Recht - Events
BEGIN:VEVENT
UID:20230420T1117Z-1681989436.7669-EO-8100-1@172.16.200.151
STATUS:CONFIRMED
DTSTAMP:20260425T182840Z
CREATED:20230123T121339Z
LAST-MODIFIED:20230123T121447Z
DTSTART;VALUE=DATE:20230605
DTEND;VALUE=DATE:20230606
SUMMARY: CPLJ Lecture Series: Equality\, Privatization\, and the Challenges
  to Trans-Procedural Substantive Norms
DESCRIPTION: 5.6.2023 / Online und Luxemburg https://www.mpi.lu/news-and-ev
 ents/2023/january-july/cplj-lecture-series/cplj-lecture-series/  
X-ALT-DESC;FMTTYPE=text/html: <p>5.6.2023 / Online und Luxemburg</p><p><a h
 ref="https://www.mpi.lu/news-and-events/2023/january-july/cplj-lecture-seri
 es/cplj-lecture-series/">https://www.mpi.lu/news-and-events/2023/january-ju
 ly/cplj-lecture-series/cplj-lecture-series/</a></p><p> </p><p>[av_button la
 bel='iCal-Export' link='./feed/eo-events' link_target='' size='small' posit
 ion='center' label_display='' title_attr='' icon_select='yes' icon='ue85b' 
 font='entypo-fontello' color='custom' custom_bg='#b5123e' custom_font='#fff
 fff' av_uid='' id='' custom_class='' admin_preview_bg='']</p>
CATEGORIES:Europäisches / Internationales Recht
LOCATION:Online
GEO:0.000000;0.000000
ORGANIZER;CN="ViFa-Recht":MAILTO:vifa-recht@sbb.spk-berlin.de
URL;VALUE=URI:https://events.intrecht.de/termine/termin/cplj-lecture-series
 -equality-privatization-and-the-challenges-to-trans-procedural-substantive-
 norms/
END:VEVENT
BEGIN:VTIMEZONE
TZID:Europe/Berlin
BEGIN:DAYLIGHT
TZOFFSETFROM:+0100
TZOFFSETTO:+0200
DTSTART:20230326T010000
TZNAME:CEST
END:DAYLIGHT
END:VTIMEZONE
END:VCALENDAR
