BEGIN:VCALENDAR
VERSION:2.0
PRODID:-//Events | FID-Recht//NONSGML Events//EN
CALSCALE:GREGORIAN
X-ORIGINAL-URL:https://events.intrecht.de/termine/
X-WR-CALDESC:Events | FID-Recht - Events
BEGIN:VEVENT
UID:20230418T0052Z-1681779162.0916-EO-8090-1@172.16.200.151
STATUS:CONFIRMED
DTSTAMP:20260425T151213Z
CREATED:20230123T120944Z
LAST-MODIFIED:20230123T120944Z
DTSTART;VALUE=DATE:20230327
DTEND;VALUE=DATE:20230328
SUMMARY: CPLJ Lecture Series: Comparative Mediation Law in the EU: an Analy
 sis of Developments in Mediation Law Applicable to Cross-Border Commercial 
 Disputes in Light of the UN Convention on International Settlement Agreemen
 ts Resulting from Mediation
DESCRIPTION: 27.3.2023 / Online und Luxemburg https://www.mpi.lu/news-and-e
 vents/2023/january-july/cplj-lecture-series/cplj-lecture-series/  
X-ALT-DESC;FMTTYPE=text/html: <p>27.3.2023 / Online und Luxemburg</p><p><a 
 href="https://www.mpi.lu/news-and-events/2023/january-july/cplj-lecture-ser
 ies/cplj-lecture-series/">https://www.mpi.lu/news-and-events/2023/january-j
 uly/cplj-lecture-series/cplj-lecture-series/</a></p><p> </p><p>[av_button l
 abel='iCal-Export' link='./feed/eo-events' link_target='' size='small' posi
 tion='center' label_display='' title_attr='' icon_select='yes' icon='ue85b'
  font='entypo-fontello' color='custom' custom_bg='#b5123e' custom_font='#ff
 ffff' av_uid='' id='' custom_class='' admin_preview_bg='']</p>
CATEGORIES:Europäisches / Internationales Recht
LOCATION:Online
GEO:0.000000;0.000000
ORGANIZER;CN="ViFa-Recht":MAILTO:vifa-recht@sbb.spk-berlin.de
URL;VALUE=URI:https://events.intrecht.de/termine/termin/cplj-lecture-series
 -comparative-mediation-law-in-the-eu-an-analysis-of-developments-in-mediati
 on-law-applicable-to-cross-border-commercial-disputes-in-light-of-the-un-co
 nvention-on-international-set/
END:VEVENT
BEGIN:VTIMEZONE
TZID:Europe/Berlin
BEGIN:STANDARD
TZOFFSETFROM:+0200
TZOFFSETTO:+0100
DTSTART:20221030T010000
TZNAME:CET
END:STANDARD
BEGIN:DAYLIGHT
TZOFFSETFROM:+0100
TZOFFSETTO:+0200
DTSTART:20230326T010000
TZNAME:CEST
END:DAYLIGHT
END:VTIMEZONE
END:VCALENDAR
