BEGIN:VCALENDAR
VERSION:2.0
PRODID:-//Events | FID-Recht//NONSGML Events//EN
CALSCALE:GREGORIAN
X-ORIGINAL-URL:https://events.intrecht.de/termine/
X-WR-CALDESC:Events | FID-Recht - Events
BEGIN:VEVENT
UID:20230418T1257Z-1681822638.9912-EO-8097-1@172.16.200.151
STATUS:CONFIRMED
DTSTAMP:20260425T164632Z
CREATED:20230123T121155Z
LAST-MODIFIED:20230123T121155Z
DTSTART;VALUE=DATE:20230517
DTEND;VALUE=DATE:20230518
SUMMARY: CPLJ Lecture Series: Advancing Community Dispute Prevention in Mul
 tilateral Infrastructure Development
DESCRIPTION: 17.5.2023 / Online und Luxemburg https://www.mpi.lu/news-and-e
 vents/2023/january-july/cplj-lecture-series/cplj-lecture-series/  
X-ALT-DESC;FMTTYPE=text/html: <p>17.5.2023 / Online und Luxemburg</p><p><a 
 href="https://www.mpi.lu/news-and-events/2023/january-july/cplj-lecture-ser
 ies/cplj-lecture-series/">https://www.mpi.lu/news-and-events/2023/january-j
 uly/cplj-lecture-series/cplj-lecture-series/</a></p><p> </p><p>[av_button l
 abel='iCal-Export' link='./feed/eo-events' link_target='' size='small' posi
 tion='center' label_display='' title_attr='' icon_select='yes' icon='ue85b'
  font='entypo-fontello' color='custom' custom_bg='#b5123e' custom_font='#ff
 ffff' av_uid='' id='' custom_class='' admin_preview_bg='']</p>
CATEGORIES:Europäisches / Internationales Recht
LOCATION:Online
GEO:0.000000;0.000000
ORGANIZER;CN="ViFa-Recht":MAILTO:vifa-recht@sbb.spk-berlin.de
URL;VALUE=URI:https://events.intrecht.de/termine/termin/cplj-lecture-series
 -advancing-community-dispute-prevention-in-multilateral-infrastructure-deve
 lopment/
END:VEVENT
BEGIN:VTIMEZONE
TZID:Europe/Berlin
BEGIN:DAYLIGHT
TZOFFSETFROM:+0100
TZOFFSETTO:+0200
DTSTART:20230326T010000
TZNAME:CEST
END:DAYLIGHT
END:VTIMEZONE
END:VCALENDAR
