BEGIN:VCALENDAR
VERSION:2.0
PRODID:-//Events | FID-Recht//NONSGML Events//EN
CALSCALE:GREGORIAN
X-ORIGINAL-URL:https://events.intrecht.de/termine/
X-WR-CALDESC:Events | FID-Recht - Events
BEGIN:VEVENT
UID:20201217T0222Z-1608171724.5646-EO-2232-1@172.16.200.141
STATUS:CONFIRMED
DTSTAMP:20260421T133510Z
CREATED:20201211T181630Z
LAST-MODIFIED:20201211T181630Z
DTSTART;VALUE=DATE:20201215
DTEND;VALUE=DATE:20201215
SUMMARY: Covid-19 and International Law. Novel Strain or Old Wine in New Te
 st Tubes? (Online-Konferenz)
DESCRIPTION: 15.12.2020\, Online https://www.unibocconi.eu/wps/wcm/connect/
 ev/Events/Bocconi+Events/Covid19+and+International+Law.+Novel+Strain+or+Old
 +Wine+in+New+Test+Tubes    
X-ALT-DESC;FMTTYPE=text/html: <p>15.12.2020\, Online</p><p><a href="https:/
 /www.unibocconi.eu/wps/wcm/connect/ev/Events/Bocconi+Events/Covid19+and+Int
 ernational+Law.+Novel+Strain+or+Old+Wine+in+New+Test+Tubes">https://www.uni
 bocconi.eu/wps/wcm/connect/ev/Events/Bocconi+Events/Covid19+and+Internation
 al+Law.+Novel+Strain+or+Old+Wine+in+New+Test+Tubes</a></p><p><strong> </str
 ong></p><p> </p><p>[av_button label='iCal-Export' link='./feed/eo-events' l
 ink_target='' size='small' position='center' label_display='' title_attr=''
  icon_select='yes' icon='ue85b' font='entypo-fontello' color='custom' custo
 m_bg='#b5123e' custom_font='#ffffff' av_uid='' id='' custom_class='' admin_
 preview_bg='']</p>
CATEGORIES:Europäisches / Internationales Recht
ORGANIZER;CN="ViFa-Recht":MAILTO:vifa-recht@sbb.spk-berlin.de
URL;VALUE=URI:https://events.intrecht.de/termine/termin/covid-19-and-intern
 ational-law-novel-strain-or-old-wine-in-new-test-tubes-online-konferenz/
END:VEVENT
BEGIN:VTIMEZONE
TZID:Europe/Berlin
BEGIN:STANDARD
TZOFFSETFROM:+0200
TZOFFSETTO:+0100
DTSTART:20201025T010000
TZNAME:CET
END:STANDARD
END:VTIMEZONE
END:VCALENDAR
