BEGIN:VCALENDAR
VERSION:2.0
PRODID:-//Events | FID-Recht//NONSGML Events//EN
CALSCALE:GREGORIAN
X-ORIGINAL-URL:https://events.intrecht.de/termine/
X-WR-CALDESC:Events | FID-Recht - Events
BEGIN:VEVENT
UID:20230418T1256Z-1681822611.5541-EO-12682-1@172.16.200.151
STATUS:CONFIRMED
DTSTAMP:20260425T195321Z
CREATED:20230208T155548Z
LAST-MODIFIED:20230208T155548Z
DTSTART;VALUE=DATE:20230504
DTEND;VALUE=DATE:20230506
SUMMARY: Corporate Human Rights Responsibility In OECD Case Law: Actors\, I
 ssues\, Responsibilities and Remedy (Workshop)
DESCRIPTION: 4.-5.5.2023 / Erlangen (Frist für Einreichungen: 17.2.2023) ht
 tps://www.rph1.rw.fau.de/call-for-papers/  
X-ALT-DESC;FMTTYPE=text/html: <p>4.-5.5.2023 / Erlangen <strong>(Frist für 
 Einreichungen: 17.2.2023)</strong></p><p><a href="https://www.rph1.rw.fau.d
 e/call-for-papers/">https://www.rph1.rw.fau.de/call-for-papers/</a></p><p> 
 </p><p>[av_button label='iCal-Export' link='./feed/eo-events' link_target='
 ' size='small' position='center' label_display='' title_attr='' icon_select
 ='yes' icon='ue85b' font='entypo-fontello' color='custom' custom_bg='#b5123
 e' custom_font='#ffffff' av_uid='' id='' custom_class='' admin_preview_bg='
 ']</p>
CATEGORIES:Europäisches / Internationales Recht
LOCATION:Inland
GEO:0.000000;0.000000
ORGANIZER;CN="ViFa-Recht":MAILTO:vifa-recht@sbb.spk-berlin.de
URL;VALUE=URI:https://events.intrecht.de/termine/termin/corporate-human-rig
 hts-responsibility-in-oecd-case-law-actors-issues-responsibilities-and-reme
 dy-workshop/
END:VEVENT
BEGIN:VTIMEZONE
TZID:Europe/Berlin
BEGIN:DAYLIGHT
TZOFFSETFROM:+0100
TZOFFSETTO:+0200
DTSTART:20230326T010000
TZNAME:CEST
END:DAYLIGHT
END:VTIMEZONE
END:VCALENDAR
