BEGIN:VCALENDAR
VERSION:2.0
PRODID:-//Events | FID-Recht//NONSGML Events//EN
CALSCALE:GREGORIAN
X-ORIGINAL-URL:https://events.intrecht.de/termine/
X-WR-CALDESC:Events | FID-Recht - Events
BEGIN:VEVENT
UID:20200603T1418Z-1591193923.3362-EO-587-1@172.16.200.141
STATUS:CONFIRMED
DTSTAMP:20260425T150143Z
CREATED:20240719T125946Z
LAST-MODIFIED:20240719T125946Z
DTSTART;VALUE=DATE:20240917
DTEND;VALUE=DATE:20240918
SUMMARY: Corporate Criminal Responsibility\, from I.G. Farben to Lafarge Sy
 ria (Expert Discussion)
DESCRIPTION: 17.9.2024 / Nürnberg https://www.nurembergacademy.org/events/d
 etail/8c75fb1986d1ff3dff807e53892699ab/expert-discussion-on-corporate-crimi
 nal-responsibility-984/
X-ALT-DESC;FMTTYPE=text/html: <p>17.9.2024 / Nürnberg</p><p><a href="https:
 //www.nurembergacademy.org/events/detail/8c75fb1986d1ff3dff807e53892699ab/e
 xpert-discussion-on-corporate-criminal-responsibility-984/">https://www.nur
 embergacademy.org/events/detail/8c75fb1986d1ff3dff807e53892699ab/expert-dis
 cussion-on-corporate-criminal-responsibility-984/</a></p><p>[av_button labe
 l='iCal-Export' link='./feed/eo-events' link_target='' size='small' positio
 n='center' label_display='' title_attr='' icon_select='yes' icon='ue85b' fo
 nt='entypo-fontello' color='custom' custom_bg='#b5123e' custom_font='#fffff
 f' av_uid='' id='' custom_class='' admin_preview_bg='']</p>
CATEGORIES:Strafrecht
LOCATION:Inland
GEO:0.000000;0.000000
ORGANIZER;CN="ViFa-Recht":MAILTO:vifa-recht@sbb.spk-berlin.de
URL;VALUE=URI:https://events.intrecht.de/termine/termin/corporate-criminal-
 responsibility-from-i-g-farben-to-lafarge-syria-expert-discussion/
END:VEVENT
BEGIN:VTIMEZONE
TZID:Europe/Berlin
BEGIN:DAYLIGHT
TZOFFSETFROM:+0100
TZOFFSETTO:+0200
DTSTART:20240331T010000
TZNAME:CEST
END:DAYLIGHT
END:VTIMEZONE
END:VCALENDAR
