BEGIN:VCALENDAR
VERSION:2.0
PRODID:-//Events | FID-Recht//NONSGML Events//EN
CALSCALE:GREGORIAN
X-ORIGINAL-URL:https://events.intrecht.de/termine/
X-WR-CALDESC:Events | FID-Recht - Events
BEGIN:VEVENT
UID:20221105T1324Z-1667654677.4227-EO-6913-1@172.16.200.151
STATUS:CONFIRMED
DTSTAMP:20260421T102705Z
CREATED:20221102T143536Z
LAST-MODIFIED:20221102T143641Z
DTSTART;VALUE=DATE:20221118
DTEND;VALUE=DATE:20221119
SUMMARY: COP27 in Sharm el-Sheikh – Neue Ambitionen für den Klimaschutz? (T
 agung)
DESCRIPTION: 18.11.2022 / Online und Berlin https://dgvn.de/aktivitaeten/ei
 nzelansicht/cop27  
X-ALT-DESC;FMTTYPE=text/html: <p>18.11.2022 / Online und Berlin</p><p><a hr
 ef="https://dgvn.de/aktivitaeten/einzelansicht/cop27">https://dgvn.de/aktiv
 itaeten/einzelansicht/cop27</a></p><p> </p><p>[av_button label='iCal-Export
 ' link='./feed/eo-events' link_target='' size='small' position='center' lab
 el_display='' title_attr='' icon_select='yes' icon='ue85b' font='entypo-fon
 tello' color='custom' custom_bg='#b5123e' custom_font='#ffffff' av_uid='' i
 d='' custom_class='' admin_preview_bg='']</p>
CATEGORIES:Europäisches / Internationales Recht
LOCATION:Online
GEO:0.000000;0.000000
ORGANIZER;CN="ViFa-Recht":MAILTO:vifa-recht@sbb.spk-berlin.de
URL;VALUE=URI:https://events.intrecht.de/termine/termin/cop27-in-sharm-el-s
 heikh-neue-ambitionen-fuer-den-klimaschutz-tagung/
END:VEVENT
BEGIN:VTIMEZONE
TZID:Europe/Berlin
BEGIN:STANDARD
TZOFFSETFROM:+0200
TZOFFSETTO:+0100
DTSTART:20221030T010000
TZNAME:CET
END:STANDARD
END:VTIMEZONE
END:VCALENDAR
