BEGIN:VCALENDAR
VERSION:2.0
PRODID:-//Events | FID-Recht//NONSGML Events//EN
CALSCALE:GREGORIAN
X-ORIGINAL-URL:https://events.intrecht.de/termine/
X-WR-CALDESC:Events | FID-Recht - Events
BEGIN:VEVENT
UID:20200603T1418Z-1591193923.3362-EO-587-1@172.16.200.141
STATUS:CONFIRMED
DTSTAMP:20260425T164037Z
CREATED:20240314T095734Z
LAST-MODIFIED:20240314T095931Z
DTSTART;VALUE=DATE:20241024
DTEND;VALUE=DATE:20241026
SUMMARY: ‘Convivencia’: Com-paring Legal Scenarios of a Life Together in Ha
 rmony (Juris Diversitas 9th General Conference)
DESCRIPTION: 24.-25.10.2024 / Macau (Einreichungsfrist: 14.4.2024) https://
 jurisdiversitas.blogspot.com/2024/03/juris-diversitas-9th-general-conferenc
 e.html
X-ALT-DESC;FMTTYPE=text/html: <p>24.-25.10.2024 / Macau <strong>(Einreichun
 gsfrist: 14.4.2024)</strong></p><p><a href="https://jurisdiversitas.blogspo
 t.com/2024/03/juris-diversitas-9th-general-conference.html">https://jurisdi
 versitas.blogspot.com/2024/03/juris-diversitas-9th-general-conference.html<
 /a></p><p>[av_button label='iCal-Export' link='./feed/eo-events' link_targe
 t='' size='small' position='center' label_display='' title_attr='' icon_sel
 ect='yes' icon='ue85b' font='entypo-fontello' color='custom' custom_bg='#b5
 123e' custom_font='#ffffff' av_uid='' id='' custom_class='' admin_preview_b
 g='']</p>
CATEGORIES:Recht interdisziplinär
LOCATION:Ausland
GEO:0.000000;0.000000
ORGANIZER;CN="ViFa-Recht":MAILTO:vifa-recht@sbb.spk-berlin.de
URL;VALUE=URI:https://events.intrecht.de/termine/termin/convivencia-com-par
 ing-legal-scenarios-of-a-life-together-in-harmony-juris-diversitas-9th-gene
 ral-conference/
END:VEVENT
BEGIN:VTIMEZONE
TZID:Europe/Berlin
BEGIN:DAYLIGHT
TZOFFSETFROM:+0100
TZOFFSETTO:+0200
DTSTART:20240331T010000
TZNAME:CEST
END:DAYLIGHT
END:VTIMEZONE
END:VCALENDAR
