BEGIN:VCALENDAR
VERSION:2.0
PRODID:-//Events | FID-Recht//NONSGML Events//EN
CALSCALE:GREGORIAN
X-ORIGINAL-URL:https://events.intrecht.de/termine/
X-WR-CALDESC:Events | FID-Recht - Events
BEGIN:VEVENT
UID:20200603T1418Z-1591193923.3362-EO-587-1@172.16.200.141
STATUS:CONFIRMED
DTSTAMP:20260423T015926Z
CREATED:20250618T065734Z
LAST-MODIFIED:20250618T065734Z
DTSTART;VALUE=DATE:20250623
DTEND;VALUE=DATE:20250624
SUMMARY: Conversations with Judges – Can courts protect democracy? (Discuss
 ion)
DESCRIPTION: 23.6.2025 / Berlin https://www.rewi.hu-berlin.de/de/lf/oe/lsi/
 conversations-with-judges-can-courts-protect-democracy-daniela-salazar-mari
 n
X-ALT-DESC;FMTTYPE=text/html: <p>23.6.2025 / Berlin</p><p><a href="https://
 www.rewi.hu-berlin.de/de/lf/oe/lsi/conversations-with-judges-can-courts-pro
 tect-democracy-daniela-salazar-marin">https://www.rewi.hu-berlin.de/de/lf/o
 e/lsi/conversations-with-judges-can-courts-protect-democracy-daniela-salaza
 r-marin</a></p><p>[av_button label='iCal-Export' link='./feed/eo-events' li
 nk_target='' size='small' position='center' label_display='' title_attr='' 
 icon_select='yes' icon='ue85b' font='entypo-fontello' color='custom' custom
 _bg='#b5123e' custom_font='#ffffff' av_uid='' id='' custom_class='' admin_p
 review_bg='']</p>
CATEGORIES:Recht interdisziplinär
LOCATION:Inland
GEO:0.000000;0.000000
ORGANIZER;CN="ViFa-Recht":MAILTO:vifa-recht@sbb.spk-berlin.de
URL;VALUE=URI:https://events.intrecht.de/termine/termin/conversations-with-
 judges-can-courts-protect-democracy-discussion/
END:VEVENT
BEGIN:VTIMEZONE
TZID:Europe/Berlin
BEGIN:DAYLIGHT
TZOFFSETFROM:+0100
TZOFFSETTO:+0200
DTSTART:20250330T010000
TZNAME:CEST
END:DAYLIGHT
END:VTIMEZONE
END:VCALENDAR
