BEGIN:VCALENDAR
VERSION:2.0
PRODID:-//Events | FID-Recht//NONSGML Events//EN
CALSCALE:GREGORIAN
X-ORIGINAL-URL:https://events.intrecht.de/termine/
X-WR-CALDESC:Events | FID-Recht - Events
BEGIN:VEVENT
UID:20201217T0236Z-1608172612.5499-EO-2658-1@172.16.200.141
STATUS:CONFIRMED
DTSTAMP:20260422T143318Z
CREATED:20201201T181413Z
LAST-MODIFIED:20201201T181413Z
DTSTART;VALUE=DATE:20201203
DTEND;VALUE=DATE:20201203
SUMMARY: Convención HCCH 2019 sobre reconocimiento y ejecución de sentencia
 s extranjeras (Online-Konferenz)
DESCRIPTION: 3.12.2020\, Online Conference (in Spanish) on The Hague Judgme
 nts Convention: Dec 3\, 2020 – Conflict of Laws  
X-ALT-DESC;FMTTYPE=text/html: <p>3.12.2020\, Online</p><p><a href="https://
 conflictoflaws.net/2020/conference-in-spanish-on-the-hague-judgments-conven
 tion-dec-3-2020/">Conference (in Spanish) on The Hague Judgments Convention
 : Dec 3\, 2020 – Conflict of Laws</a></p><p> </p><p>[av_button label='iCal-
 Export' link='./feed/eo-events' link_target='' size='small' position='cente
 r' label_display='' title_attr='' icon_select='yes' icon='ue85b' font='enty
 po-fontello' color='custom' custom_bg='#b5123e' custom_font='#ffffff' av_ui
 d='' id='' custom_class='' admin_preview_bg='']</p>
LOCATION:Online
GEO:0.000000;0.000000
ORGANIZER;CN="ViFa-Recht":MAILTO:vifa-recht@sbb.spk-berlin.de
URL;VALUE=URI:https://events.intrecht.de/termine/termin/convencion-hcch-201
 9-sobre-reconocimiento-y-ejecucion-de-sentencias-extranjeras-online-konfere
 nz/
END:VEVENT
BEGIN:VTIMEZONE
TZID:Europe/Berlin
BEGIN:STANDARD
TZOFFSETFROM:+0200
TZOFFSETTO:+0100
DTSTART:20201025T010000
TZNAME:CET
END:STANDARD
END:VTIMEZONE
END:VCALENDAR
