BEGIN:VCALENDAR
VERSION:2.0
PRODID:-//Events | FID-Recht//NONSGML Events//EN
CALSCALE:GREGORIAN
X-ORIGINAL-URL:https://events.intrecht.de/termine/
X-WR-CALDESC:Events | FID-Recht - Events
BEGIN:VEVENT
UID:20221102T0030Z-1667349006.32-EO-6870-1@172.16.200.151
STATUS:CONFIRMED
DTSTAMP:20260421T133438Z
CREATED:20221031T140549Z
LAST-MODIFIED:20221031T140607Z
DTSTART;VALUE=DATE:20221214
DTEND;VALUE=DATE:20221215
SUMMARY: ConTrust Lecture Series: Behind the Brown Box: Amazon Sellers\, Gl
 obal Supply Chains\, and the Making of Monopoly
DESCRIPTION: 14.12.2022 https://www.normativeorders.net/de/veranstaltungen/
 alleveranstaltungen/69-veranstaltungen/8605-trust-contexted  
X-ALT-DESC;FMTTYPE=text/html: <p>14.12.2022</p><p><a href="https://www.norm
 ativeorders.net/de/veranstaltungen/alleveranstaltungen/69-veranstaltungen/8
 605-trust-contexted">https://www.normativeorders.net/de/veranstaltungen/all
 everanstaltungen/69-veranstaltungen/8605-trust-contexted</a></p><p> </p><p>
 [av_button label='iCal-Export' link='./feed/eo-events' link_target='' size=
 'small' position='center' label_display='' title_attr='' icon_select='yes' 
 icon='ue85b' font='entypo-fontello' color='custom' custom_bg='#b5123e' cust
 om_font='#ffffff' av_uid='' id='' custom_class='' admin_preview_bg='']</p>
CATEGORIES:Recht interdisziplinär
LOCATION:Inland
GEO:0.000000;0.000000
ORGANIZER;CN="ViFa-Recht":MAILTO:vifa-recht@sbb.spk-berlin.de
URL;VALUE=URI:https://events.intrecht.de/termine/termin/contrust-lecture-se
 ries-behind-the-brown-box-amazon-sellers-global-supply-chains-and-the-makin
 g-of-monopoly/
END:VEVENT
BEGIN:VTIMEZONE
TZID:Europe/Berlin
BEGIN:STANDARD
TZOFFSETFROM:+0200
TZOFFSETTO:+0100
DTSTART:20221030T010000
TZNAME:CET
END:STANDARD
END:VTIMEZONE
END:VCALENDAR
