BEGIN:VCALENDAR
VERSION:2.0
PRODID:-//Events | FID-Recht//NONSGML Events//EN
CALSCALE:GREGORIAN
X-ORIGINAL-URL:https://events.intrecht.de/termine/
X-WR-CALDESC:Events | FID-Recht - Events
BEGIN:VEVENT
UID:20220311T1924Z-1647026679.5849-EO-6298-1@172.16.200.141
STATUS:CONFIRMED
DTSTAMP:20260423T035852Z
CREATED:20220308T201734Z
LAST-MODIFIED:20220308T201734Z
DTSTART;VALUE=DATE:20220311
DTEND;VALUE=DATE:20220312
SUMMARY: Controlling the Littoral – Contact\, Conflict\, and Collaboration 
 in Coastal Spaces across the Atlantic and Indian Oceans (with David Wilson)
  (Online-Vortrag)
DESCRIPTION: 11.3.2022\, Online https://www.eventbrite.co.uk/e/semester-2-2
 021-2022-events-seminar-series-works-in-progress-tickets-228213411457    
X-ALT-DESC;FMTTYPE=text/html: <p>11.3.2022\, Online</p><p><a href="https://
 www.eventbrite.co.uk/e/semester-2-2021-2022-events-seminar-series-works-in-
 progress-tickets-228213411457">https://www.eventbrite.co.uk/e/semester-2-20
 21-2022-events-seminar-series-works-in-progress-tickets-228213411457</a></p
 ><p> </p><p> </p><p>[av_button label='iCal-Export' link='./feed/eo-events' 
 link_target='' size='small' position='center' label_display='' title_attr='
 ' icon_select='yes' icon='ue85b' font='entypo-fontello' color='custom' cust
 om_bg='#b5123e' custom_font='#ffffff' av_uid='' id='' custom_class='' admin
 _preview_bg='']</p>
CATEGORIES:Recht interdisziplinär
LOCATION:Online
GEO:0.000000;0.000000
ORGANIZER;CN="ViFa-Recht":MAILTO:vifa-recht@sbb.spk-berlin.de
URL;VALUE=URI:https://events.intrecht.de/termine/termin/controlling-the-lit
 toral-contact-conflict-and-collaboration-in-coastal-spaces-across-the-atlan
 tic-and-indian-oceans-with-david-wilson-online-vortrag/
END:VEVENT
BEGIN:VTIMEZONE
TZID:Europe/Berlin
BEGIN:STANDARD
TZOFFSETFROM:+0200
TZOFFSETTO:+0100
DTSTART:20211031T010000
TZNAME:CET
END:STANDARD
END:VTIMEZONE
END:VCALENDAR
