BEGIN:VCALENDAR
VERSION:2.0
PRODID:-//Events | FID-Recht//NONSGML Events//EN
CALSCALE:GREGORIAN
X-ORIGINAL-URL:https://events.intrecht.de/termine/
X-WR-CALDESC:Events | FID-Recht - Events
BEGIN:VEVENT
UID:20200603T1418Z-1591193923.3362-EO-587-1@172.16.200.141
STATUS:CONFIRMED
DTSTAMP:20260422T173929Z
CREATED:20240417T131038Z
LAST-MODIFIED:20240417T131038Z
DTSTART;VALUE=DATE:20250213
DTEND;VALUE=DATE:20250215
SUMMARY: Contract law and the right to housing: European\, transnational an
 d interdisciplinary perspectives (Conference)
DESCRIPTION: 13.-14.2.2025 / Genua (Einreichungsfrist: 1.6.2024) https://ww
 w.dropbox.com/scl/fi/hldl2q4vgbos0hbfdz2pf/Cfp-Contract-law-and-the-right-t
 o-housing.pdf?rlkey=vaap40zkf4jnvtubelaeloj1i&dl=0
X-ALT-DESC;FMTTYPE=text/html: <p>13.-14.2.2025 / Genua <strong>(Einreichung
 sfrist: 1.6.2024)</strong></p><p><a href="https://www.dropbox.com/scl/fi/hl
 dl2q4vgbos0hbfdz2pf/Cfp-Contract-law-and-the-right-to-housing.pdf?rlkey=vaa
 p40zkf4jnvtubelaeloj1i&dl=0">https://www.dropbox.com/scl/fi/hldl2q4vgbos0hb
 fdz2pf/Cfp-Contract-law-and-the-right-to-housing.pdf?rlkey=vaap40zkf4jnvtub
 elaeloj1i&dl=0</a></p><p>[av_button label='iCal-Export' link='./feed/eo-eve
 nts' link_target='' size='small' position='center' label_display='' title_a
 ttr='' icon_select='yes' icon='ue85b' font='entypo-fontello' color='custom'
  custom_bg='#b5123e' custom_font='#ffffff' av_uid='' id='' custom_class='' 
 admin_preview_bg='']</p>
CATEGORIES:Recht interdisziplinär
LOCATION:Ausland
GEO:0.000000;0.000000
ORGANIZER;CN="ViFa-Recht":MAILTO:vifa-recht@sbb.spk-berlin.de
URL;VALUE=URI:https://events.intrecht.de/termine/termin/contract-law-and-th
 e-right-to-housing-european-transnational-and-interdisciplinary-perspective
 s-conference/
END:VEVENT
BEGIN:VTIMEZONE
TZID:Europe/Berlin
BEGIN:STANDARD
TZOFFSETFROM:+0200
TZOFFSETTO:+0100
DTSTART:20241027T010000
TZNAME:CET
END:STANDARD
END:VTIMEZONE
END:VCALENDAR
