BEGIN:VCALENDAR
VERSION:2.0
PRODID:-//Events | FID-Recht//NONSGML Events//EN
CALSCALE:GREGORIAN
X-ORIGINAL-URL:https://events.intrecht.de/termine/
X-WR-CALDESC:Events | FID-Recht - Events
BEGIN:VEVENT
UID:20200709T1334Z-1594301697.586-EO-1234-1@172.16.200.141
STATUS:CONFIRMED
DTSTAMP:20260422T143209Z
CREATED:20200708T181746Z
LAST-MODIFIED:20200708T181805Z
DTSTART;VALUE=DATE:20200507
DTEND;VALUE=DATE:20200509
SUMMARY: VERSCHOBEN: Contested norms of international peace and security la
 w (Workshop)
DESCRIPTION: VERSCHOBEN AUF 6.-7.5.2021\, Heidelberg (Programm & weitere In
 fos ab Januar 2021) https://www.shadesofillegality.org/en/topic/9.links.htm
 l?id=4    
X-ALT-DESC;FMTTYPE=text/html: <p>VERSCHOBEN AUF <span style="display: inlin
 e !important\; float: none\; background-color: #ffffff\; color: #333333\; c
 ursor: text\; font-family: Georgia\,'Times New Roman'\,'Bitstream Charter'\
 ,Times\,serif\; font-size: 16px\; font-style: normal\; font-variant: normal
 \; font-weight: 400\; letter-spacing: normal\; orphans: 2\; text-align: lef
 t\; text-decoration: none\; text-indent: 0px\; text-transform: none\; -webk
 it-text-stroke-width: 0px\; white-space: normal\; word-spacing: 0px\;">6.-7
 .5.2021\, Heidelberg (</span>Programm & weitere Infos ab Januar 2021)</p><p
 ><a href="https://www.shadesofillegality.org/en/topic/9.links.html?id=4">ht
 tps://www.shadesofillegality.org/en/topic/9.links.html?id=4</a></p><p> </p>
 <p> </p><p>[av_button label='iCal-Export' link='./feed/eo-events' link_targ
 et='' size='small' position='center' label_display='' title_attr='' icon_se
 lect='yes' icon='ue85b' font='entypo-fontello' color='custom' custom_bg='#b
 5123e' custom_font='#ffffff' av_uid='' id='' custom_class='' admin_preview_
 bg='']</p>
CATEGORIES:Europäisches / Internationales Recht
LOCATION:Inland
GEO:0.000000;0.000000
ORGANIZER;CN="ViFa-Recht":MAILTO:vifa-recht@sbb.spk-berlin.de
URL;VALUE=URI:https://events.intrecht.de/termine/termin/contested-norms-of-
 international-peace-and-security-law-workshop-2/
END:VEVENT
BEGIN:VTIMEZONE
TZID:Europe/Berlin
BEGIN:DAYLIGHT
TZOFFSETFROM:+0100
TZOFFSETTO:+0200
DTSTART:20200329T010000
TZNAME:CEST
END:DAYLIGHT
END:VTIMEZONE
END:VCALENDAR
