BEGIN:VCALENDAR
VERSION:2.0
PRODID:-//Events | FID-Recht//NONSGML Events//EN
CALSCALE:GREGORIAN
X-ORIGINAL-URL:https://events.intrecht.de/termine/
X-WR-CALDESC:Events | FID-Recht - Events
BEGIN:VEVENT
UID:20220903T1728Z-1662226132.3786-EO-5327-1@172.16.200.151
STATUS:CONFIRMED
DTSTAMP:20260422T235624Z
CREATED:20220901T102020Z
LAST-MODIFIED:20220901T102020Z
DTSTART;VALUE=DATE:20221019
DTEND;VALUE=DATE:20221022
SUMMARY: Contested Equality International and Comparative Legal Perspective
 s (Online- und Präsenztagung)
DESCRIPTION: 19.-21.10.2022\, Zürich und online (Anmeldefrist: 30.9.2022) h
 ttps://voelkerrechtsblog.org/events/contested-equality-international-and-co
 mparative-legal-perspectives-2/  
X-ALT-DESC;FMTTYPE=text/html: <p>19.-21.10.2022\, Zürich und online (Anmeld
 efrist: 30.9.2022)</p><p><a href="https://voelkerrechtsblog.org/events/cont
 ested-equality-international-and-comparative-legal-perspectives-2/">https:/
 /voelkerrechtsblog.org/events/contested-equality-international-and-comparat
 ive-legal-perspectives-2/</a></p><p> </p><p>[av_button label='iCal-Export' 
 link='./feed/eo-events' link_target='' size='small' position='center' label
 _display='' title_attr='' icon_select='yes' icon='ue85b' font='entypo-fonte
 llo' color='custom' custom_bg='#b5123e' custom_font='#ffffff' av_uid='' id=
 '' custom_class='' admin_preview_bg='']</p>
CATEGORIES:Recht interdisziplinär
LOCATION:Ausland
GEO:0.000000;0.000000
ORGANIZER;CN="ViFa-Recht":MAILTO:vifa-recht@sbb.spk-berlin.de
URL;VALUE=URI:https://events.intrecht.de/termine/termin/contested-equality-
 international-and-comparative-legal-perspectives-online-und-praesenztagung/
END:VEVENT
BEGIN:VTIMEZONE
TZID:Europe/Berlin
BEGIN:DAYLIGHT
TZOFFSETFROM:+0100
TZOFFSETTO:+0200
DTSTART:20220327T010000
TZNAME:CEST
END:DAYLIGHT
END:VTIMEZONE
END:VCALENDAR
