BEGIN:VCALENDAR
VERSION:2.0
PRODID:-//Events | FID-Recht//NONSGML Events//EN
CALSCALE:GREGORIAN
X-ORIGINAL-URL:https://events.intrecht.de/termine/
X-WR-CALDESC:Events | FID-Recht - Events
BEGIN:VEVENT
UID:20220801T0728Z-1659338906.6518-EO-4846-1@172.16.200.151
STATUS:CONFIRMED
DTSTAMP:20260421T102414Z
CREATED:20220729T171131Z
LAST-MODIFIED:20220729T171131Z
DTSTART;VALUE=DATE:20221004
DTEND;VALUE=DATE:20221006
SUMMARY: Contested Concepts of Property in Past & Present (Tagung)
DESCRIPTION: 4.-5.10.2022\, Jena “Contested Concepts of Property in Past & 
 Present“ | SFB 294 Strukturwandel des Eigentums (sfb294-eigentum.de)  
X-ALT-DESC;FMTTYPE=text/html: <p>4.-5.10.2022\, Jena</p><p><a href="https:/
 /sfb294-eigentum.de/de/termine/sfb-jahrestagung/">“Contested Concepts of Pr
 operty in Past & Present“ | SFB 294 Strukturwandel des Eigentums (sfb294-ei
 gentum.de)</a></p><p> </p><p>[av_button label='iCal-Export' link='./feed/eo
 -events' link_target='' size='small' position='center' label_display='' tit
 le_attr='' icon_select='yes' icon='ue85b' font='entypo-fontello' color='cus
 tom' custom_bg='#b5123e' custom_font='#ffffff' av_uid='' id='' custom_class
 ='' admin_preview_bg='']</p>
CATEGORIES:Recht interdisziplinär,Zivilrecht
LOCATION:Inland
GEO:0.000000;0.000000
ORGANIZER;CN="ViFa-Recht":MAILTO:vifa-recht@sbb.spk-berlin.de
URL;VALUE=URI:https://events.intrecht.de/termine/termin/contested-concepts-
 of-property-in-past-present-tagung/
END:VEVENT
BEGIN:VTIMEZONE
TZID:Europe/Berlin
BEGIN:DAYLIGHT
TZOFFSETFROM:+0100
TZOFFSETTO:+0200
DTSTART:20220327T010000
TZNAME:CEST
END:DAYLIGHT
END:VTIMEZONE
END:VCALENDAR
