BEGIN:VCALENDAR
VERSION:2.0
PRODID:-//Events | FID-Recht//NONSGML Events//EN
CALSCALE:GREGORIAN
X-ORIGINAL-URL:https://events.intrecht.de/termine/
X-WR-CALDESC:Events | FID-Recht - Events
BEGIN:VEVENT
UID:20201217T0405Z-1608177940.1489-EO-2652-1@172.16.200.141
STATUS:CONFIRMED
DTSTAMP:20260426T021213Z
CREATED:20201201T183351Z
LAST-MODIFIED:20201201T183351Z
DTSTART;VALUE=DATE:20201208
DTEND;VALUE=DATE:20201208
SUMMARY: Contestations of Women’s and Gender Rights in Morocco – A Reading 
 from the ‚Center‘ Public Online Lecture (with Prof. Fatima Sadiqi) (Online-
 Vortrag)
DESCRIPTION: 8.12.2020\, Online https://www.uni-bielefeld.de/(en)/ZiF/OeV/2
 020/12-08-Sadiqi.html  
X-ALT-DESC;FMTTYPE=text/html: <p>8.12.2020\, Online</p><p><a href="https://
 www.uni-bielefeld.de/(en)/ZiF/OeV/2020/12-08-Sadiqi.html">https://www.uni-b
 ielefeld.de/(en)/ZiF/OeV/2020/12-08-Sadiqi.html</a></p><p> </p><p>[av_butto
 n label='iCal-Export' link='./feed/eo-events' link_target='' size='small' p
 osition='center' label_display='' title_attr='' icon_select='yes' icon='ue8
 5b' font='entypo-fontello' color='custom' custom_bg='#b5123e' custom_font='
 #ffffff' av_uid='' id='' custom_class='' admin_preview_bg='']</p>
CATEGORIES:Europäisches / Internationales Recht
LOCATION:Online
GEO:0.000000;0.000000
ORGANIZER;CN="ViFa-Recht":MAILTO:vifa-recht@sbb.spk-berlin.de
URL;VALUE=URI:https://events.intrecht.de/termine/termin/contestations-of-wo
 mens-and-gender-rights-in-morocco-a-reading-from-the-center-public-online-l
 ecture-with-prof-fatima-sadiqi-online-vortrag/
END:VEVENT
BEGIN:VTIMEZONE
TZID:Europe/Berlin
BEGIN:STANDARD
TZOFFSETFROM:+0200
TZOFFSETTO:+0100
DTSTART:20201025T010000
TZNAME:CET
END:STANDARD
END:VTIMEZONE
END:VCALENDAR
