BEGIN:VCALENDAR
VERSION:2.0
PRODID:-//Events | FID-Recht//NONSGML Events//EN
CALSCALE:GREGORIAN
X-ORIGINAL-URL:https://events.intrecht.de/termine/
X-WR-CALDESC:Events | FID-Recht - Events
BEGIN:VEVENT
UID:20221209T0002Z-1670544159.3889-EO-7751-1@172.16.200.151
STATUS:CONFIRMED
DTSTAMP:20260421T165757Z
CREATED:20221206T174244Z
LAST-MODIFIED:20221206T174244Z
DTSTART;VALUE=DATE:20230614
DTEND;VALUE=DATE:20230615
SUMMARY: Contemporary Social and Legal Issues in a Social Media Age (Tagung
 )
DESCRIPTION: 14.6.2023 / (Frist für Einreichungen: 20.12.2022) https://www.
 legalscholars.ac.uk/event/sls-supported-event-conference-contemporary-socia
 l-and-legal-issues-in-a-social-media-age/  
X-ALT-DESC;FMTTYPE=text/html: <p>14.6.2023 / <strong>(Frist für Einreichung
 en: 20.12.2022</strong>)</p><p><a href="https://www.legalscholars.ac.uk/eve
 nt/sls-supported-event-conference-contemporary-social-and-legal-issues-in-a
 -social-media-age/">https://www.legalscholars.ac.uk/event/sls-supported-eve
 nt-conference-contemporary-social-and-legal-issues-in-a-social-media-age/</
 a></p><p> </p><p>[av_button label='iCal-Export' link='./feed/eo-events' lin
 k_target='' size='small' position='center' label_display='' title_attr='' i
 con_select='yes' icon='ue85b' font='entypo-fontello' color='custom' custom_
 bg='#b5123e' custom_font='#ffffff' av_uid='' id='' custom_class='' admin_pr
 eview_bg='']</p>
CATEGORIES:Recht interdisziplinär
LOCATION:Ausland
GEO:0.000000;0.000000
ORGANIZER;CN="ViFa-Recht":MAILTO:vifa-recht@sbb.spk-berlin.de
URL;VALUE=URI:https://events.intrecht.de/termine/termin/contemporary-social
 -and-legal-issues-in-a-social-media-age-tagung/
END:VEVENT
BEGIN:VTIMEZONE
TZID:Europe/Berlin
BEGIN:DAYLIGHT
TZOFFSETFROM:+0100
TZOFFSETTO:+0200
DTSTART:20230326T010000
TZNAME:CEST
END:DAYLIGHT
END:VTIMEZONE
END:VCALENDAR
