BEGIN:VCALENDAR
VERSION:2.0
PRODID:-//Events | FID-Recht//NONSGML Events//EN
CALSCALE:GREGORIAN
X-ORIGINAL-URL:https://events.intrecht.de/termine/
X-WR-CALDESC:Events | FID-Recht - Events
BEGIN:VEVENT
UID:20220211T2159Z-1644616789.3978-EO-5925-1@172.16.200.141
STATUS:CONFIRMED
DTSTAMP:20260421T115355Z
CREATED:20220207T173054Z
LAST-MODIFIED:20220223T094038Z
DTSTART;VALUE=DATE:20220603
DTEND;VALUE=DATE:20220604
SUMMARY: VERSCHOBEN: Contemporary Challenges to Law and Criminology (Tagung
 )
DESCRIPTION: 3.6.2022\, Lancaster – NEUER TERMIN: 10.6.2022 (Frist für Einr
 eichungen: 31.3.2022) Law in the Transforming World – 30 April 2021\, Lanca
 ster University\, UK (lancs.ac.uk)  
X-ALT-DESC;FMTTYPE=text/html: <p>3.6.2022\, Lancaster - NEUER TERMIN: 10.6.
 2022 (Frist für Einreichungen: 31.3.2022)</p><p><a href="http://wp.lancs.ac
 .uk/law-and-social-transformation/">Law in the Transforming World – 30 Apri
 l 2021\, Lancaster University\, UK (lancs.ac.uk)</a></p><p> </p><p>[av_butt
 on label='iCal-Export' link='./feed/eo-events' link_target='' size='small' 
 position='center' label_display='' title_attr='' icon_select='yes' icon='ue
 85b' font='entypo-fontello' color='custom' custom_bg='#b5123e' custom_font=
 '#ffffff' av_uid='' id='' custom_class='' admin_preview_bg='']</p>
CATEGORIES:Strafrecht
LOCATION:Ausland
GEO:0.000000;0.000000
ORGANIZER;CN="ViFa-Recht":MAILTO:vifa-recht@sbb.spk-berlin.de
URL;VALUE=URI:https://events.intrecht.de/termine/termin/contemporary-challe
 nges-to-law-and-criminology-tagung/
END:VEVENT
BEGIN:VTIMEZONE
TZID:Europe/Berlin
BEGIN:DAYLIGHT
TZOFFSETFROM:+0100
TZOFFSETTO:+0200
DTSTART:20220327T010000
TZNAME:CEST
END:DAYLIGHT
END:VTIMEZONE
END:VCALENDAR
