BEGIN:VCALENDAR
VERSION:2.0
PRODID:-//Events | FID-Recht//NONSGML Events//EN
CALSCALE:GREGORIAN
X-ORIGINAL-URL:https://events.intrecht.de/termine/
X-WR-CALDESC:Events | FID-Recht - Events
BEGIN:VEVENT
UID:20220211T2007Z-1644610037.2843-EO-5733-1@172.16.200.141
STATUS:CONFIRMED
DTSTAMP:20260421T102524Z
CREATED:20220207T173022Z
LAST-MODIFIED:20220207T173022Z
DTSTART;VALUE=DATE:20220331
DTEND;VALUE=DATE:20220401
SUMMARY: Contemporary Challenges to Law and Criminology (Tagung) (CfP)
DESCRIPTION: 3.6.2022\, Lancaster (Frist für Einreichungen: 31.3.2022) Law 
 in the Transforming World – 30 April 2021\, Lancaster University\, UK (lanc
 s.ac.uk)  
X-ALT-DESC;FMTTYPE=text/html: <p>3.6.2022\, Lancaster (Frist für Einreichun
 gen: 31.3.2022)</p><p><a href="http://wp.lancs.ac.uk/law-and-social-transfo
 rmation/">Law in the Transforming World – 30 April 2021\, Lancaster Univers
 ity\, UK (lancs.ac.uk)</a></p><p> </p><p>[av_button label='iCal-Export' lin
 k='./feed/eo-events' link_target='' size='small' position='center' label_di
 splay='' title_attr='' icon_select='yes' icon='ue85b' font='entypo-fontello
 ' color='custom' custom_bg='#b5123e' custom_font='#ffffff' av_uid='' id='' 
 custom_class='' admin_preview_bg='']</p>
CATEGORIES:Strafrecht
LOCATION:Ausland
GEO:0.000000;0.000000
ORGANIZER;CN="ViFa-Recht":MAILTO:vifa-recht@sbb.spk-berlin.de
URL;VALUE=URI:https://events.intrecht.de/termine/termin/contemporary-challe
 nges-to-law-and-criminology-tagung-cfp/
END:VEVENT
BEGIN:VTIMEZONE
TZID:Europe/Berlin
BEGIN:DAYLIGHT
TZOFFSETFROM:+0100
TZOFFSETTO:+0200
DTSTART:20220327T010000
TZNAME:CEST
END:DAYLIGHT
END:VTIMEZONE
END:VCALENDAR
