BEGIN:VCALENDAR
VERSION:2.0
PRODID:-//Events | FID-Recht//NONSGML Events//EN
CALSCALE:GREGORIAN
X-ORIGINAL-URL:https://events.intrecht.de/termine/
X-WR-CALDESC:Events | FID-Recht - Events
BEGIN:VEVENT
UID:20211104T1246Z-1636029974.2206-EO-4935-1@172.16.200.141
STATUS:CONFIRMED
DTSTAMP:20260422T160730Z
CREATED:20211102T144250Z
LAST-MODIFIED:20211102T144605Z
DTSTART;VALUE=DATE:20211110
DTEND;VALUE=DATE:20211112
SUMMARY: Consumer Financial Services and Inequality (Online-Workshop)
DESCRIPTION: 10.11.2021\, Online Transatlantic Seminar on Consumer Law\, Te
 chnology and Inequality: „Consumer Financial Services and Inequality“ (10 N
 ovember 2021): Overview · Events (Indico) (gwdg.de)  
X-ALT-DESC;FMTTYPE=text/html: <p>10.11.2021\, Online</p><p><a href="https:/
 /events.gwdg.de/event/63/">Transatlantic Seminar on Consumer Law\, Technolo
 gy and Inequality: "Consumer Financial Services and Inequality" (10 Novembe
 r 2021): Overview · Events (Indico) (gwdg.de)</a></p><p> </p><p>[av_button 
 label='iCal-Export' link='./feed/eo-events' link_target='' size='small' pos
 ition='center' label_display='' title_attr='' icon_select='yes' icon='ue85b
 ' font='entypo-fontello' color='custom' custom_bg='#b5123e' custom_font='#f
 fffff' av_uid='' id='' custom_class='' admin_preview_bg='']</p>
CATEGORIES:Zivilrecht
LOCATION:Online
GEO:0.000000;0.000000
ORGANIZER;CN="ViFa-Recht":MAILTO:vifa-recht@sbb.spk-berlin.de
URL;VALUE=URI:https://events.intrecht.de/termine/termin/consumer-financial-
 services-and-inequality-online-workshop/
END:VEVENT
BEGIN:VTIMEZONE
TZID:Europe/Berlin
BEGIN:STANDARD
TZOFFSETFROM:+0200
TZOFFSETTO:+0100
DTSTART:20211031T010000
TZNAME:CET
END:STANDARD
END:VTIMEZONE
END:VCALENDAR
