BEGIN:VCALENDAR
VERSION:2.0
PRODID:-//Events | FID-Recht//NONSGML Events//EN
CALSCALE:GREGORIAN
X-ORIGINAL-URL:https://events.intrecht.de/termine/
X-WR-CALDESC:Events | FID-Recht - Events
BEGIN:VEVENT
UID:20200603T1418Z-1591193923.3362-EO-587-1@172.16.200.141
STATUS:CONFIRMED
DTSTAMP:20260422T123604Z
CREATED:20240426T110952Z
LAST-MODIFIED:20240426T110952Z
DTSTART;VALUE=DATE:20240514
DTEND;VALUE=DATE:20240515
SUMMARY: Constructing Imperial Authority through British Imperial Constitut
 ional Law and Private International Law (Virtual Workshop / Current Researc
 h in Private International Law)
DESCRIPTION: 14.5.2024 / Online https://events.mpipriv.de/virtual_workshop_
 with_roxana_banu
X-ALT-DESC;FMTTYPE=text/html: <p>14.5.2024 / Online</p><p><a href="https://
 events.mpipriv.de/virtual_workshop_with_roxana_banu">https://events.mpipriv
 .de/virtual_workshop_with_roxana_banu</a></p><p>[av_button label='iCal-Expo
 rt' link='./feed/eo-events' link_target='' size='small' position='center' l
 abel_display='' title_attr='' icon_select='yes' icon='ue85b' font='entypo-f
 ontello' color='custom' custom_bg='#b5123e' custom_font='#ffffff' av_uid=''
  id='' custom_class='' admin_preview_bg='']</p>
CATEGORIES:Zivilrecht
LOCATION:Online
GEO:0.000000;0.000000
ORGANIZER;CN="ViFa-Recht":MAILTO:vifa-recht@sbb.spk-berlin.de
URL;VALUE=URI:https://events.intrecht.de/termine/termin/constructing-imperi
 al-authority-through-british-imperial-constitutional-law-and-private-intern
 ational-law-virtual-workshop-current-research-in-private-international-law/
END:VEVENT
BEGIN:VTIMEZONE
TZID:Europe/Berlin
BEGIN:DAYLIGHT
TZOFFSETFROM:+0100
TZOFFSETTO:+0200
DTSTART:20240331T010000
TZNAME:CEST
END:DAYLIGHT
END:VTIMEZONE
END:VCALENDAR
