BEGIN:VCALENDAR
VERSION:2.0
PRODID:-//Events | FID-Recht//NONSGML Events//EN
CALSCALE:GREGORIAN
X-ORIGINAL-URL:https://events.intrecht.de/termine/
X-WR-CALDESC:Events | FID-Recht - Events
BEGIN:VEVENT
UID:20200603T1418Z-1591193923.3362-EO-587-1@172.16.200.141
STATUS:CONFIRMED
DTSTAMP:20260422T125212Z
CREATED:20240305T132228Z
LAST-MODIFIED:20240305T132228Z
DTSTART;VALUE=DATE:20240530
DTEND;VALUE=DATE:20240601
SUMMARY: Constitutionalism Beyond the State and the Role of Domestic Consti
 tutional Courts (Solange 50th Anniversary Conference)
DESCRIPTION: 30.-31.5.2024 / Berlin https://www.wzb.eu/de/events/solange-50
 th-anniversary-conference
X-ALT-DESC;FMTTYPE=text/html: <p>30.-31.5.2024 / Berlin</p><p><a href="http
 s://www.wzb.eu/de/events/solange-50th-anniversary-conference">https://www.w
 zb.eu/de/events/solange-50th-anniversary-conference</a></p><p>[av_button la
 bel='iCal-Export' link='./feed/eo-events' link_target='' size='small' posit
 ion='center' label_display='' title_attr='' icon_select='yes' icon='ue85b' 
 font='entypo-fontello' color='custom' custom_bg='#b5123e' custom_font='#fff
 fff' av_uid='' id='' custom_class='' admin_preview_bg='']</p>
CATEGORIES:Öffentliches Recht
LOCATION:Inland
GEO:0.000000;0.000000
ORGANIZER;CN="ViFa-Recht":MAILTO:vifa-recht@sbb.spk-berlin.de
URL;VALUE=URI:https://events.intrecht.de/termine/termin/constitutionalism-b
 eyond-the-state-and-the-role-of-domestic-constitutional-courts-solange-50th
 -anniversary-conference/
END:VEVENT
BEGIN:VTIMEZONE
TZID:Europe/Berlin
BEGIN:DAYLIGHT
TZOFFSETFROM:+0100
TZOFFSETTO:+0200
DTSTART:20240331T010000
TZNAME:CEST
END:DAYLIGHT
END:VTIMEZONE
END:VCALENDAR
