BEGIN:VCALENDAR
VERSION:2.0
PRODID:-//Events | FID-Recht//NONSGML Events//EN
CALSCALE:GREGORIAN
X-ORIGINAL-URL:https://events.intrecht.de/termine/
X-WR-CALDESC:Events | FID-Recht - Events
BEGIN:VEVENT
UID:20200603T1418Z-1591193923.3362-EO-587-1@172.16.200.141
STATUS:CONFIRMED
DTSTAMP:20260422T225106Z
CREATED:20240802T090809Z
LAST-MODIFIED:20240802T090809Z
DTSTART;VALUE=DATE:20241003
DTEND;VALUE=DATE:20241004
SUMMARY: Constitutionalism at Work. Navigating Knowledge in the Courtroom (
 Bonavero Annual Lecture)
DESCRIPTION: 3.10.2024 / Oxford https://www.law.ox.ac.uk/content/event/bona
 vero-annual-lecture-constitutionalism-work-navigating-knowledge-courtroom
X-ALT-DESC;FMTTYPE=text/html: <p>3.10.2024 / Oxford</p><p><a href="https://
 www.law.ox.ac.uk/content/event/bonavero-annual-lecture-constitutionalism-wo
 rk-navigating-knowledge-courtroom">https://www.law.ox.ac.uk/content/event/b
 onavero-annual-lecture-constitutionalism-work-navigating-knowledge-courtroo
 m</a></p><p>[av_button label='iCal-Export' link='./feed/eo-events' link_tar
 get='' size='small' position='center' label_display='' title_attr='' icon_s
 elect='yes' icon='ue85b' font='entypo-fontello' color='custom' custom_bg='#
 b5123e' custom_font='#ffffff' av_uid='' id='' custom_class='' admin_preview
 _bg='']</p>
CATEGORIES:Öffentliches Recht
LOCATION:Ausland
GEO:0.000000;0.000000
ORGANIZER;CN="ViFa-Recht":MAILTO:vifa-recht@sbb.spk-berlin.de
URL;VALUE=URI:https://events.intrecht.de/termine/termin/constitutionalism-a
 t-work-navigating-knowledge-in-the-courtroom-bonavero-annual-lecture/
END:VEVENT
BEGIN:VTIMEZONE
TZID:Europe/Berlin
BEGIN:DAYLIGHT
TZOFFSETFROM:+0100
TZOFFSETTO:+0200
DTSTART:20240331T010000
TZNAME:CEST
END:DAYLIGHT
END:VTIMEZONE
END:VCALENDAR
