BEGIN:VCALENDAR
VERSION:2.0
PRODID:-//Events | FID-Recht//NONSGML Events//EN
CALSCALE:GREGORIAN
X-ORIGINAL-URL:https://events.intrecht.de/termine/
X-WR-CALDESC:Events | FID-Recht - Events
BEGIN:VEVENT
UID:20220703T2329Z-1656890991.0562-EO-4351-1@172.16.200.151
STATUS:CONFIRMED
DTSTAMP:20260422T160855Z
CREATED:20220630T154333Z
LAST-MODIFIED:20220630T154402Z
DTSTART;VALUE=DATE:20221005
DTEND;VALUE=DATE:20221008
SUMMARY: Constitutional Court and Conflict Resolution (5th Indonesian Const
 itutional Court International Symposium) (Tagung)
DESCRIPTION: 5.-7.10.2022\, Bali (Frist für Einreichungen: 31.7.2022) ICCIS
  | Indonesian Constitutional Court International Symposium (mkri.id)  
X-ALT-DESC;FMTTYPE=text/html: <p>5.-7.10.2022\, Bali (Frist für Einreichung
 en: 31.7.2022)</p><p><a href="https://iccis.mkri.id/">ICCIS | Indonesian Co
 nstitutional Court International Symposium (mkri.id)</a></p><p> </p><p>[av_
 button label='iCal-Export' link='./feed/eo-events' link_target='' size='sma
 ll' position='center' label_display='' title_attr='' icon_select='yes' icon
 ='ue85b' font='entypo-fontello' color='custom' custom_bg='#b5123e' custom_f
 ont='#ffffff' av_uid='' id='' custom_class='' admin_preview_bg='']</p>
CATEGORIES:Öffentliches Recht
LOCATION:Ausland
GEO:0.000000;0.000000
ORGANIZER;CN="ViFa-Recht":MAILTO:vifa-recht@sbb.spk-berlin.de
URL;VALUE=URI:https://events.intrecht.de/termine/termin/constitutional-cour
 t-and-conflict-resolution-5th-indonesian-constitutional-court-international
 -symposium-tagung/
END:VEVENT
BEGIN:VTIMEZONE
TZID:Europe/Berlin
BEGIN:DAYLIGHT
TZOFFSETFROM:+0100
TZOFFSETTO:+0200
DTSTART:20220327T010000
TZNAME:CEST
END:DAYLIGHT
END:VTIMEZONE
END:VCALENDAR
