BEGIN:VCALENDAR
VERSION:2.0
PRODID:-//Events | FID-Recht//NONSGML Events//EN
CALSCALE:GREGORIAN
X-ORIGINAL-URL:https://events.intrecht.de/termine/
X-WR-CALDESC:Events | FID-Recht - Events
BEGIN:VEVENT
UID:20200603T1418Z-1591193923.3362-EO-587-1@172.16.200.141
STATUS:CONFIRMED
DTSTAMP:20260422T124513Z
CREATED:20240124T103208Z
LAST-MODIFIED:20240124T103208Z
DTSTART;VALUE=DATE:20240208
DTEND;VALUE=DATE:20240210
SUMMARY: Constitutional Challenges – Judging under Pressure (Conference)
DESCRIPTION: 8.-9.2.2024 / Berlin https://www.hertie-school.org/en/fundamen
 tal-rights/events/constitutional-challenges
X-ALT-DESC;FMTTYPE=text/html: <p>8.-9.2.2024 / Berlin</p><p><a href="https:
 //www.hertie-school.org/en/fundamental-rights/events/constitutional-challen
 ges">https://www.hertie-school.org/en/fundamental-rights/events/constitutio
 nal-challenges</a></p><p>[av_button label='iCal-Export' link='./feed/eo-eve
 nts' link_target='' size='small' position='center' label_display='' title_a
 ttr='' icon_select='yes' icon='ue85b' font='entypo-fontello' color='custom'
  custom_bg='#b5123e' custom_font='#ffffff' av_uid='' id='' custom_class='' 
 admin_preview_bg='']</p>
CATEGORIES:Öffentliches Recht
LOCATION:Inland
GEO:0.000000;0.000000
ORGANIZER;CN="ViFa-Recht":MAILTO:vifa-recht@sbb.spk-berlin.de
URL;VALUE=URI:https://events.intrecht.de/termine/termin/constitutional-chal
 lenges-judging-under-pressure-conference/
END:VEVENT
BEGIN:VTIMEZONE
TZID:Europe/Berlin
BEGIN:STANDARD
TZOFFSETFROM:+0200
TZOFFSETTO:+0100
DTSTART:20231029T010000
TZNAME:CET
END:STANDARD
END:VTIMEZONE
END:VCALENDAR
