BEGIN:VCALENDAR
VERSION:2.0
PRODID:-//Events | FID-Recht//NONSGML Events//EN
CALSCALE:GREGORIAN
X-ORIGINAL-URL:https://events.intrecht.de/termine/
X-WR-CALDESC:Events | FID-Recht - Events
BEGIN:VEVENT
UID:20201216T1921Z-1608146463.6101-EO-2264-1@172.16.200.141
STATUS:CONFIRMED
DTSTAMP:20260423T004428Z
CREATED:20201211T183740Z
LAST-MODIFIED:20201211T183740Z
DTSTART;VALUE=DATE:20210122
DTEND;VALUE=DATE:20210122
SUMMARY: Constituent Power in Commonwealth Constitutional Legal Systems – W
 orkshop on Emerging Research (Online-Workshop) (CfP)
DESCRIPTION: April 2021 (date: tbc)\, Online (Frist für Einreichungen: 22.1
 .2021) https://www.birmingham.ac.uk/schools/law/news/2020/11/cfp-constituen
 t-power-in-commonwealth-constitutional-legal-systems-workshop-on-emerging-r
 esearch.aspx  
X-ALT-DESC;FMTTYPE=text/html: <p>April 2021 (date: tbc)\, Online (Frist für
  Einreichungen: 22.1.2021)</p><p><a href="https://www.birmingham.ac.uk/scho
 ols/law/news/2020/11/cfp-constituent-power-in-commonwealth-constitutional-l
 egal-systems-workshop-on-emerging-research.aspx">https://www.birmingham.ac.
 uk/schools/law/news/2020/11/cfp-constituent-power-in-commonwealth-constitut
 ional-legal-systems-workshop-on-emerging-research.aspx</a></p><p> </p><p>[a
 v_button label='iCal-Export' link='./feed/eo-events' link_target='' size='s
 mall' position='center' label_display='' title_attr='' icon_select='yes' ic
 on='ue85b' font='entypo-fontello' color='custom' custom_bg='#b5123e' custom
 _font='#ffffff' av_uid='' id='' custom_class='' admin_preview_bg='']</p>
CATEGORIES:Europäisches / Internationales Recht,Öffentliches Recht
LOCATION:Online
GEO:0.000000;0.000000
ORGANIZER;CN="ViFa-Recht":MAILTO:vifa-recht@sbb.spk-berlin.de
URL;VALUE=URI:https://events.intrecht.de/termine/termin/constituent-power-i
 n-commonwealth-constitutional-legal-systems-workshop-on-emerging-research-o
 nline-workshop-cfp/
END:VEVENT
BEGIN:VTIMEZONE
TZID:Europe/Berlin
BEGIN:STANDARD
TZOFFSETFROM:+0200
TZOFFSETTO:+0100
DTSTART:20201025T010000
TZNAME:CET
END:STANDARD
END:VTIMEZONE
END:VCALENDAR
