BEGIN:VCALENDAR
VERSION:2.0
PRODID:-//Events | FID-Recht//NONSGML Events//EN
CALSCALE:GREGORIAN
X-ORIGINAL-URL:https://events.intrecht.de/termine/
X-WR-CALDESC:Events | FID-Recht - Events
BEGIN:VEVENT
UID:20200603T1418Z-1591193923.3362-EO-587-1@172.16.200.141
STATUS:CONFIRMED
DTSTAMP:20260422T090659Z
CREATED:20230817T075235Z
LAST-MODIFIED:20231020T174637Z
DTSTART;VALUE=DATE:20231129
DTEND;VALUE=DATE:20231203
SUMMARY: Consolidation of Law. Experiencing Ancient Documents (Internationa
 ler Workshop)
DESCRIPTION: 29.11.-2.12.2023 / Münster https://www.uni-muenster.de/EViR/ve
 ranstaltungen/tagungenundworkshops/consolidation.html
X-ALT-DESC;FMTTYPE=text/html: <p>29.11.-2.12.2023 / Münster</p><p><a href="
 https://www.uni-muenster.de/EViR/veranstaltungen/tagungenundworkshops/conso
 lidation.html">https://www.uni-muenster.de/EViR/veranstaltungen/tagungenund
 workshops/consolidation.html</a></p><p>[av_button label='iCal-Export' link=
 './feed/eo-events' link_target='' size='small' position='center' label_disp
 lay='' title_attr='' icon_select='yes' icon='ue85b' font='entypo-fontello' 
 color='custom' custom_bg='#b5123e' custom_font='#ffffff' av_uid='' id='' cu
 stom_class='' admin_preview_bg='']</p>
CATEGORIES:Recht interdisziplinär
LOCATION:Inland
GEO:0.000000;0.000000
ORGANIZER;CN="ViFa-Recht":MAILTO:vifa-recht@sbb.spk-berlin.de
URL;VALUE=URI:https://events.intrecht.de/termine/termin/consolidation-of-la
 w-experiencing-ancient-documents-internationaler-workshop/
END:VEVENT
BEGIN:VTIMEZONE
TZID:Europe/Berlin
BEGIN:STANDARD
TZOFFSETFROM:+0200
TZOFFSETTO:+0100
DTSTART:20231029T010000
TZNAME:CET
END:STANDARD
END:VTIMEZONE
END:VCALENDAR
