BEGIN:VCALENDAR
VERSION:2.0
PRODID:-//Events | FID-Recht//NONSGML Events//EN
CALSCALE:GREGORIAN
X-ORIGINAL-URL:https://events.intrecht.de/termine/
X-WR-CALDESC:Events | FID-Recht - Events
BEGIN:VEVENT
UID:20200603T1418Z-1591193923.3362-EO-587-1@172.16.200.141
STATUS:CONFIRMED
DTSTAMP:20260425T182902Z
CREATED:20231108T101304Z
LAST-MODIFIED:20231108T101304Z
DTSTART;VALUE=DATE:20240606
DTEND;VALUE=DATE:20240608
SUMMARY: Conflicts & Communities in Digital Law (Young Digital Law Conferen
 ce 2024)
DESCRIPTION: 6.-7.6.2024 / Paris (Einreichungsfrist: 19.1.2024) https://www
 .sciencespo.fr/ecole-droit/sites/sciencespo.fr.ecole-droit/files/SciencesPo
 _JDR%202024_call_for_papers.pdf
X-ALT-DESC;FMTTYPE=text/html: <p>6.-7.6.2024 / Paris <strong>(Einreichungsf
 rist: 19.1.2024)</strong></p><p><a href="https://www.sciencespo.fr/ecole-dr
 oit/sites/sciencespo.fr.ecole-droit/files/SciencesPo_JDR%202024_call_for_pa
 pers.pdf">https://www.sciencespo.fr/ecole-droit/sites/sciencespo.fr.ecole-d
 roit/files/SciencesPo_JDR%202024_call_for_papers.pdf</a></p><p>[av_button l
 abel='iCal-Export' link='./feed/eo-events' link_target='' size='small' posi
 tion='center' label_display='' title_attr='' icon_select='yes' icon='ue85b'
  font='entypo-fontello' color='custom' custom_bg='#b5123e' custom_font='#ff
 ffff' av_uid='' id='' custom_class='' admin_preview_bg='']</p>
CATEGORIES:Recht interdisziplinär
LOCATION:Ausland
GEO:0.000000;0.000000
ORGANIZER;CN="ViFa-Recht":MAILTO:vifa-recht@sbb.spk-berlin.de
URL;VALUE=URI:https://events.intrecht.de/termine/termin/conflicts-communiti
 es-in-digital-law-young-digital-law-conference-2024/
END:VEVENT
BEGIN:VTIMEZONE
TZID:Europe/Berlin
BEGIN:DAYLIGHT
TZOFFSETFROM:+0100
TZOFFSETTO:+0200
DTSTART:20240331T010000
TZNAME:CEST
END:DAYLIGHT
END:VTIMEZONE
END:VCALENDAR
