BEGIN:VCALENDAR
VERSION:2.0
PRODID:-//Events | FID-Recht//NONSGML Events//EN
CALSCALE:GREGORIAN
X-ORIGINAL-URL:https://events.intrecht.de/termine/
X-WR-CALDESC:Events | FID-Recht - Events
BEGIN:VEVENT
UID:20200603T1418Z-1591193923.3362-EO-587-1@172.16.200.141
STATUS:CONFIRMED
DTSTAMP:20260422T125327Z
CREATED:20240412T133835Z
LAST-MODIFIED:20240412T134049Z
DTSTART;VALUE=DATE:20240425
DTEND;VALUE=DATE:20240426
SUMMARY: “Conflict of Laws” in the Islamic Legal Tradition – Between the Pr
 inciples of Personality and Territoriality of the Law (Virtual Lecture)
DESCRIPTION: 25.4.2024 / Online https://events.mpipriv.de/afternoon_talk_be
 ligh_elbalti
X-ALT-DESC;FMTTYPE=text/html: <p>25.4.2024 / Online</p><p><a href="https://
 events.mpipriv.de/afternoon_talk_beligh_elbalti">https://events.mpipriv.de/
 afternoon_talk_beligh_elbalti</a></p><p>[av_button label='iCal-Export' link
 ='./feed/eo-events' link_target='' size='small' position='center' label_dis
 play='' title_attr='' icon_select='yes' icon='ue85b' font='entypo-fontello'
  color='custom' custom_bg='#b5123e' custom_font='#ffffff' av_uid='' id='' c
 ustom_class='' admin_preview_bg='']</p>
CATEGORIES:Recht interdisziplinär
LOCATION:Online
GEO:0.000000;0.000000
ORGANIZER;CN="ViFa-Recht":MAILTO:vifa-recht@sbb.spk-berlin.de
URL;VALUE=URI:https://events.intrecht.de/termine/termin/conflict-of-laws-in
 -the-islamic-legal-tradition-between-the-principles-of-personality-and-terr
 itoriality-of-the-law-virtual-lecture/
END:VEVENT
BEGIN:VTIMEZONE
TZID:Europe/Berlin
BEGIN:DAYLIGHT
TZOFFSETFROM:+0100
TZOFFSETTO:+0200
DTSTART:20240331T010000
TZNAME:CEST
END:DAYLIGHT
END:VTIMEZONE
END:VCALENDAR
