BEGIN:VCALENDAR
VERSION:2.0
PRODID:-//Events | FID-Recht//NONSGML Events//EN
CALSCALE:GREGORIAN
X-ORIGINAL-URL:https://events.intrecht.de/termine/
X-WR-CALDESC:Events | FID-Recht - Events
BEGIN:VEVENT
UID:20200603T1418Z-1591193923.3362-EO-587-1@172.16.200.141
STATUS:CONFIRMED
DTSTAMP:20260425T162819Z
CREATED:20250331T162617Z
LAST-MODIFIED:20250331T162617Z
DTSTART;VALUE=DATE:20250721
DTEND;VALUE=DATE:20250723
SUMMARY: Conflict and Contestation in International Law (Annual Postgraduat
 e Conference in International Law and Human Rights)
DESCRIPTION: 21.-22.7.2025 / Liverpool (Einreichungsfrist: 14.4.2025) https
 ://www.liverpool.ac.uk/law/research/research-clusters/international-law-and
 -human-rights-unit/workshops-and-conferences/postgraduate-conference/
X-ALT-DESC;FMTTYPE=text/html: <p>21.-22.7.2025 / Liverpool <strong>(Einreic
 hungsfrist: 14.4.2025)</strong></p><p><a href="https://www.liverpool.ac.uk/
 law/research/research-clusters/international-law-and-human-rights-unit/work
 shops-and-conferences/postgraduate-conference/">https://www.liverpool.ac.uk
 /law/research/research-clusters/international-law-and-human-rights-unit/wor
 kshops-and-conferences/postgraduate-conference/</a></p><p>[av_button label=
 'iCal-Export' link='./feed/eo-events' link_target='' size='small' position=
 'center' label_display='' title_attr='' icon_select='yes' icon='ue85b' font
 ='entypo-fontello' color='custom' custom_bg='#b5123e' custom_font='#ffffff'
  av_uid='' id='' custom_class='' admin_preview_bg='']</p>
CATEGORIES:Europäisches / Internationales Recht
LOCATION:Ausland
GEO:0.000000;0.000000
ORGANIZER;CN="ViFa-Recht":MAILTO:vifa-recht@sbb.spk-berlin.de
URL;VALUE=URI:https://events.intrecht.de/termine/termin/conflict-and-contes
 tation-in-international-law-annual-postgraduate-conference-in-international
 -law-and-human-rights/
END:VEVENT
BEGIN:VTIMEZONE
TZID:Europe/Berlin
BEGIN:DAYLIGHT
TZOFFSETFROM:+0100
TZOFFSETTO:+0200
DTSTART:20250330T010000
TZNAME:CEST
END:DAYLIGHT
END:VTIMEZONE
END:VCALENDAR
