BEGIN:VCALENDAR
VERSION:2.0
PRODID:-//Events | FID-Recht//NONSGML Events//EN
CALSCALE:GREGORIAN
X-ORIGINAL-URL:https://events.intrecht.de/termine/
X-WR-CALDESC:Events | FID-Recht - Events
BEGIN:VEVENT
UID:20200603T1418Z-1591193923.3362-EO-587-1@172.16.200.141
STATUS:CONFIRMED
DTSTAMP:20260421T234522Z
CREATED:20240919T092959Z
LAST-MODIFIED:20240919T092959Z
DTSTART;VALUE=DATE:20241202
DTEND;VALUE=DATE:20241203
SUMMARY: Conference on Trust and Law in Africa
DESCRIPTION: 2.12.2024 / Hamburg (Einreichungsfrist: 30.9.2024) https://law
 .mpg.de/event/conference-on-trust-and-law-in-africa/
X-ALT-DESC;FMTTYPE=text/html: <p>2.12.2024 / Hamburg <strong>(Einreichungsf
 rist: 30.9.2024)</strong></p><p><a href="https://law.mpg.de/event/conferenc
 e-on-trust-and-law-in-africa/">https://law.mpg.de/event/conference-on-trust
 -and-law-in-africa/</a></p><p>[av_button label='iCal-Export' link='./feed/e
 o-events' link_target='' size='small' position='center' label_display='' ti
 tle_attr='' icon_select='yes' icon='ue85b' font='entypo-fontello' color='cu
 stom' custom_bg='#b5123e' custom_font='#ffffff' av_uid='' id='' custom_clas
 s='' admin_preview_bg='']</p>
CATEGORIES:Recht interdisziplinär
LOCATION:Inland
GEO:0.000000;0.000000
ORGANIZER;CN="ViFa-Recht":MAILTO:vifa-recht@sbb.spk-berlin.de
URL;VALUE=URI:https://events.intrecht.de/termine/termin/conference-on-trust
 -and-law-in-africa/
END:VEVENT
BEGIN:VTIMEZONE
TZID:Europe/Berlin
BEGIN:STANDARD
TZOFFSETFROM:+0200
TZOFFSETTO:+0100
DTSTART:20241027T010000
TZNAME:CET
END:STANDARD
END:VTIMEZONE
END:VCALENDAR
