BEGIN:VCALENDAR
VERSION:2.0
PRODID:-//Events | FID-Recht//NONSGML Events//EN
CALSCALE:GREGORIAN
X-ORIGINAL-URL:https://events.intrecht.de/termine/
X-WR-CALDESC:Events | FID-Recht - Events
BEGIN:VEVENT
UID:20200603T1418Z-1591193923.3362-EO-587-1@172.16.200.141
STATUS:CONFIRMED
DTSTAMP:20260425T160534Z
CREATED:20230227T120445Z
LAST-MODIFIED:20230227T120445Z
DTSTART;VALUE=DATE:20230609
DTEND;VALUE=DATE:20230611
SUMMARY: Conference on „The HCCH 2019 Judgments Convention: Cornerstones\, 
 Prospects\, Outlook
DESCRIPTION: 9.-10.6.2023 / Bonn https://www.jura.uni-bonn.de/professur-pro
 f-dr-weller/the-hcch-2019-judgments-convention-cornerstones-prospects-outlo
 ok-conference-on-9-and-10-june-2023
X-ALT-DESC;FMTTYPE=text/html: <p>9.-10.6.2023 / Bonn</p><p><a href="https:/
 /www.jura.uni-bonn.de/professur-prof-dr-weller/the-hcch-2019-judgments-conv
 ention-cornerstones-prospects-outlook-conference-on-9-and-10-june-2023">htt
 ps://www.jura.uni-bonn.de/professur-prof-dr-weller/the-hcch-2019-judgments-
 convention-cornerstones-prospects-outlook-conference-on-9-and-10-june-2023<
 /a></p><p>[av_button label='iCal-Export' link='./feed/eo-events' link_targe
 t='' size='small' position='center' label_display='' title_attr='' icon_sel
 ect='yes' icon='ue85b' font='entypo-fontello' color='custom' custom_bg='#b5
 123e' custom_font='#ffffff' av_uid='' id='' custom_class='' admin_preview_b
 g='']</p>
CATEGORIES:Europäisches / Internationales Recht
LOCATION:Inland
GEO:0.000000;0.000000
ORGANIZER;CN="ViFa-Recht":MAILTO:vifa-recht@sbb.spk-berlin.de
URL;VALUE=URI:https://events.intrecht.de/termine/termin/conference-on-the-h
 cch-2019-judgments-convention-cornerstones-prospects-outlook/
END:VEVENT
BEGIN:VTIMEZONE
TZID:Europe/Berlin
BEGIN:DAYLIGHT
TZOFFSETFROM:+0100
TZOFFSETTO:+0200
DTSTART:20230326T010000
TZNAME:CEST
END:DAYLIGHT
END:VTIMEZONE
END:VCALENDAR
