BEGIN:VCALENDAR
VERSION:2.0
PRODID:-//Events | FID-Recht//NONSGML Events//EN
CALSCALE:GREGORIAN
X-ORIGINAL-URL:https://events.intrecht.de/termine/
X-WR-CALDESC:Events | FID-Recht - Events
BEGIN:VEVENT
UID:20200603T1418Z-1591193923.3362-EO-587-1@172.16.200.141
STATUS:CONFIRMED
DTSTAMP:20260425T182817Z
CREATED:20230708T170151Z
LAST-MODIFIED:20230708T170151Z
DTSTART;VALUE=DATE:20230912
DTEND;VALUE=DATE:20230915
SUMMARY: Conference on Research Data Infrastructure: Connecting Communities
DESCRIPTION: 12.-14.9.2023 / Karlsruhe (Anmeldefrist: 31.8.2023) https://ww
 w.nfdi.de/cordi-2023-call-for-papers/
X-ALT-DESC;FMTTYPE=text/html: <p>12.-14.9.2023 / Karlsruhe <strong>(Anmelde
 frist: 31.8.2023)</strong></p><p><a href="https://www.nfdi.de/cordi-2023-ca
 ll-for-papers/">https://www.nfdi.de/cordi-2023-call-for-papers/</a></p><p>[
 av_button label='iCal-Export' link='./feed/eo-events' link_target='' size='
 small' position='center' label_display='' title_attr='' icon_select='yes' i
 con='ue85b' font='entypo-fontello' color='custom' custom_bg='#b5123e' custo
 m_font='#ffffff' av_uid='' id='' custom_class='' admin_preview_bg='']</p>
CATEGORIES:Recht interdisziplinär
LOCATION:Inland
GEO:0.000000;0.000000
ORGANIZER;CN="ViFa-Recht":MAILTO:vifa-recht@sbb.spk-berlin.de
URL;VALUE=URI:https://events.intrecht.de/termine/termin/conference-on-resea
 rch-data-infrastructure-connecting-communities/
END:VEVENT
BEGIN:VTIMEZONE
TZID:Europe/Berlin
BEGIN:DAYLIGHT
TZOFFSETFROM:+0100
TZOFFSETTO:+0200
DTSTART:20230326T010000
TZNAME:CEST
END:DAYLIGHT
END:VTIMEZONE
END:VCALENDAR
