BEGIN:VCALENDAR
VERSION:2.0
PRODID:-//Events | FID-Recht//NONSGML Events//EN
CALSCALE:GREGORIAN
X-ORIGINAL-URL:https://events.intrecht.de/termine/
X-WR-CALDESC:Events | FID-Recht - Events
BEGIN:VEVENT
UID:20200603T1418Z-1591193923.3362-EO-587-1@172.16.200.141
STATUS:CONFIRMED
DTSTAMP:20260422T013106Z
CREATED:20240920T151820Z
LAST-MODIFIED:20240920T151820Z
DTSTART;VALUE=DATE:20241008
DTEND;VALUE=DATE:20241009
SUMMARY: Conference on International Commercial Courts\, State Model(s) of 
 Specialised (Domestic) Courts? (Hybrid Event)
DESCRIPTION: 8.10.2024 / Online und Lyon https://conflictoflaws.net/News/20
 24/09/Programme_ENGLISH_Les_juridictions_commerciales_internationales__mode
 le_s__etatique_s__des_juridictions_specialisees-1.pdf
X-ALT-DESC;FMTTYPE=text/html: <p>8.10.2024 / Online und Lyon</p><p><a href=
 "https://conflictoflaws.net/News/2024/09/Programme_ENGLISH_Les_juridictions
 _commerciales_internationales__modele_s__etatique_s__des_juridictions_speci
 alisees-1.pdf">https://conflictoflaws.net/News/2024/09/Programme_ENGLISH_Le
 s_juridictions_commerciales_internationales__modele_s__etatique_s__des_juri
 dictions_specialisees-1.pdf</a></p><p>[av_button label='iCal-Export' link='
 ./feed/eo-events' link_target='' size='small' position='center' label_displ
 ay='' title_attr='' icon_select='yes' icon='ue85b' font='entypo-fontello' c
 olor='custom' custom_bg='#b5123e' custom_font='#ffffff' av_uid='' id='' cus
 tom_class='' admin_preview_bg='']</p>
CATEGORIES:Europäisches / Internationales Recht
LOCATION:Hybrid
GEO:0.000000;0.000000
ORGANIZER;CN="ViFa-Recht":MAILTO:vifa-recht@sbb.spk-berlin.de
URL;VALUE=URI:https://events.intrecht.de/termine/termin/conference-on-inter
 national-commercial-courts-state-models-of-specialised-domestic-courts-hybr
 id-event/
END:VEVENT
BEGIN:VTIMEZONE
TZID:Europe/Berlin
BEGIN:DAYLIGHT
TZOFFSETFROM:+0100
TZOFFSETTO:+0200
DTSTART:20240331T010000
TZNAME:CEST
END:DAYLIGHT
END:VTIMEZONE
END:VCALENDAR
