BEGIN:VCALENDAR
VERSION:2.0
PRODID:-//Events | FID-Recht//NONSGML Events//EN
CALSCALE:GREGORIAN
X-ORIGINAL-URL:https://events.intrecht.de/termine/
X-WR-CALDESC:Events | FID-Recht - Events
BEGIN:VEVENT
UID:20200603T1418Z-1591193923.3362-EO-587-1@172.16.200.141
STATUS:CONFIRMED
DTSTAMP:20260422T211428Z
CREATED:20240925T162718Z
LAST-MODIFIED:20240925T162718Z
DTSTART;VALUE=DATE:20241219
DTEND;VALUE=DATE:20241221
SUMMARY: Conference on Intergenerational Memories of Mass Violence
DESCRIPTION: 19.-20.12.2024 / Brüssel (Einreichungsfrist: 14.10.2024) https
 ://law.mpg.de/event/conference-on-intergenerational-memories-of-mass-violen
 ce/
X-ALT-DESC;FMTTYPE=text/html: <p>19.-20.12.2024 / Brüssel <strong>(Einreich
 ungsfrist:</strong> <strong>14.10.2024)</strong></p><p><a href="https://law
 .mpg.de/event/conference-on-intergenerational-memories-of-mass-violence/">h
 ttps://law.mpg.de/event/conference-on-intergenerational-memories-of-mass-vi
 olence/</a></p><p>[av_button label='iCal-Export' link='./feed/eo-events' li
 nk_target='' size='small' position='center' label_display='' title_attr='' 
 icon_select='yes' icon='ue85b' font='entypo-fontello' color='custom' custom
 _bg='#b5123e' custom_font='#ffffff' av_uid='' id='' custom_class='' admin_p
 review_bg='']</p>
CATEGORIES:Recht interdisziplinär
LOCATION:Ausland
GEO:0.000000;0.000000
ORGANIZER;CN="ViFa-Recht":MAILTO:vifa-recht@sbb.spk-berlin.de
URL;VALUE=URI:https://events.intrecht.de/termine/termin/conference-on-inter
 generational-memories-of-mass-violence/
END:VEVENT
BEGIN:VTIMEZONE
TZID:Europe/Berlin
BEGIN:STANDARD
TZOFFSETFROM:+0200
TZOFFSETTO:+0100
DTSTART:20241027T010000
TZNAME:CET
END:STANDARD
END:VTIMEZONE
END:VCALENDAR
