BEGIN:VCALENDAR
VERSION:2.0
PRODID:-//Events | FID-Recht//NONSGML Events//EN
CALSCALE:GREGORIAN
X-ORIGINAL-URL:https://events.intrecht.de/termine/
X-WR-CALDESC:Events | FID-Recht - Events
BEGIN:VEVENT
UID:20200603T1418Z-1591193923.3362-EO-587-1@172.16.200.141
STATUS:CONFIRMED
DTSTAMP:20260422T211313Z
CREATED:20241111T140324Z
LAST-MODIFIED:20241111T140324Z
DTSTART;VALUE=DATE:20250611
DTEND;VALUE=DATE:20250612
SUMMARY: Compositions and Performances of Global Governance (Workshop)
DESCRIPTION: 11.6.2025 / Tilburg (Einreichungsfrist: 10.12.2024) https://dr
 ive.google.com/file/d/10KpCaBAkmwvLbUuei1Pf0LFR44QwbY6L/view
X-ALT-DESC;FMTTYPE=text/html: <p>11.6.2025 / Tilburg <strong>(Einreichungsf
 rist: 10.12.2024)</strong></p><p><a href="https://drive.google.com/file/d/1
 0KpCaBAkmwvLbUuei1Pf0LFR44QwbY6L/view">https://drive.google.com/file/d/10Kp
 CaBAkmwvLbUuei1Pf0LFR44QwbY6L/view</a></p><p>[av_button label='iCal-Export'
  link='./feed/eo-events' link_target='' size='small' position='center' labe
 l_display='' title_attr='' icon_select='yes' icon='ue85b' font='entypo-font
 ello' color='custom' custom_bg='#b5123e' custom_font='#ffffff' av_uid='' id
 ='' custom_class='' admin_preview_bg='']</p>
CATEGORIES:Recht interdisziplinär
LOCATION:Ausland
GEO:0.000000;0.000000
ORGANIZER;CN="ViFa-Recht":MAILTO:vifa-recht@sbb.spk-berlin.de
URL;VALUE=URI:https://events.intrecht.de/termine/termin/compositions-and-pe
 rformances-of-global-governance-workshop/
END:VEVENT
BEGIN:VTIMEZONE
TZID:Europe/Berlin
BEGIN:DAYLIGHT
TZOFFSETFROM:+0100
TZOFFSETTO:+0200
DTSTART:20250330T010000
TZNAME:CEST
END:DAYLIGHT
END:VTIMEZONE
END:VCALENDAR
