BEGIN:VCALENDAR
VERSION:2.0
PRODID:-//Events | FID-Recht//NONSGML Events//EN
CALSCALE:GREGORIAN
X-ORIGINAL-URL:https://events.intrecht.de/termine/
X-WR-CALDESC:Events | FID-Recht - Events
BEGIN:VEVENT
UID:20220913T2056Z-1663102577.6915-EO-5887-1@172.16.200.151
STATUS:CONFIRMED
DTSTAMP:20260422T194024Z
CREATED:20220912T140108Z
LAST-MODIFIED:20220912T140128Z
DTSTART;VALUE=DATE:20220922
DTEND;VALUE=DATE:20220923
SUMMARY: Competition Policy 2022 (Vortrag)
DESCRIPTION: 22.9.2022\, London https://www.biicl.org/events/11615/competit
 ion-policy-2022  
X-ALT-DESC;FMTTYPE=text/html: <p>22.9.2022\, London</p><p><a href="https://
 www.biicl.org/events/11615/competition-policy-2022">https://www.biicl.org/e
 vents/11615/competition-policy-2022</a></p><p> </p><p>[av_button label='iCa
 l-Export' link='./feed/eo-events' link_target='' size='small' position='cen
 ter' label_display='' title_attr='' icon_select='yes' icon='ue85b' font='en
 typo-fontello' color='custom' custom_bg='#b5123e' custom_font='#ffffff' av_
 uid='' id='' custom_class='' admin_preview_bg='']</p>
CATEGORIES:Recht interdisziplinär
LOCATION:Ausland
GEO:0.000000;0.000000
ORGANIZER;CN="ViFa-Recht":MAILTO:vifa-recht@sbb.spk-berlin.de
URL;VALUE=URI:https://events.intrecht.de/termine/termin/competition-policy-
 2022-vortrag/
END:VEVENT
BEGIN:VTIMEZONE
TZID:Europe/Berlin
BEGIN:DAYLIGHT
TZOFFSETFROM:+0100
TZOFFSETTO:+0200
DTSTART:20220327T010000
TZNAME:CEST
END:DAYLIGHT
END:VTIMEZONE
END:VCALENDAR
