BEGIN:VCALENDAR
VERSION:2.0
PRODID:-//Events | FID-Recht//NONSGML Events//EN
CALSCALE:GREGORIAN
X-ORIGINAL-URL:https://events.intrecht.de/termine/
X-WR-CALDESC:Events | FID-Recht - Events
BEGIN:VEVENT
UID:20220730T1152Z-1659181933.2619-EO-4812-1@172.16.200.151
STATUS:CONFIRMED
DTSTAMP:20260421T133853Z
CREATED:20220729T170500Z
LAST-MODIFIED:20220729T170500Z
DTSTART;VALUE=DATE:20220901
DTEND;VALUE=DATE:20220904
SUMMARY: Comparing and Transferring Law and Legal Expertise. The Role of Ja
 pan (Tagung)
DESCRIPTION: 1.-3.9.2022\, Hamburg (Anmeldefrist: 26.8.2022) 01.-03.09.2022
  Comparing and Transferring Law and Legal Expertise. The Role of Japan | Ma
 x-Planck-Institut für ausländisches und internationales Privatrecht (mpipri
 v.de)  
X-ALT-DESC;FMTTYPE=text/html: <p>1.-3.9.2022\, Hamburg (Anmeldefrist: 26.8.
 2022)</p><p><a href="https://www.mpipriv.de/1540752/01-03-09-2022-comparing
 -and-transferring-law-and-legal-expertise-the-role-of-japan">01.-03.09.2022
  Comparing and Transferring Law and Legal Expertise. The Role of Japan | Ma
 x-Planck-Institut für ausländisches und internationales Privatrecht (mpipri
 v.de)</a></p><p> </p><p>[av_button label='iCal-Export' link='./feed/eo-even
 ts' link_target='' size='small' position='center' label_display='' title_at
 tr='' icon_select='yes' icon='ue85b' font='entypo-fontello' color='custom' 
 custom_bg='#b5123e' custom_font='#ffffff' av_uid='' id='' custom_class='' a
 dmin_preview_bg='']</p>
CATEGORIES:Recht interdisziplinär
LOCATION:Inland
GEO:0.000000;0.000000
ORGANIZER;CN="ViFa-Recht":MAILTO:vifa-recht@sbb.spk-berlin.de
URL;VALUE=URI:https://events.intrecht.de/termine/termin/comparing-and-trans
 ferring-law-and-legal-expertise-the-role-of-japan-tagung/
END:VEVENT
BEGIN:VTIMEZONE
TZID:Europe/Berlin
BEGIN:DAYLIGHT
TZOFFSETFROM:+0100
TZOFFSETTO:+0200
DTSTART:20220327T010000
TZNAME:CEST
END:DAYLIGHT
END:VTIMEZONE
END:VCALENDAR
