BEGIN:VCALENDAR
VERSION:2.0
PRODID:-//Events | FID-Recht//NONSGML Events//EN
CALSCALE:GREGORIAN
X-ORIGINAL-URL:https://events.intrecht.de/termine/
X-WR-CALDESC:Events | FID-Recht - Events
BEGIN:VEVENT
UID:20200617T1532Z-1592407956.6448-EO-795-1@172.16.200.141
STATUS:CONFIRMED
DTSTAMP:20260422T125444Z
CREATED:20210126T105658Z
LAST-MODIFIED:20210126T110037Z
DTSTART;VALUE=DATE:20210305
DTEND;VALUE=DATE:20210306
SUMMARY: Comparative Procedural Law and Justice (Online-Konferenz)
DESCRIPTION: VERSCHOBEN auf 19.\, 22.\, 23.\, 26. Februar und 5. März\, Lux
 emburg & VERLEGT auf Online (ursprünglicher Termin: 29.-30.6.2020) https://
 www.mpi.lu/news-and-events/upcoming-events/detail/detail/comparative-proced
 ural-law-and-justice-1/  
X-ALT-DESC;FMTTYPE=text/html: <p>VERSCHOBEN auf 19.\, 22.\, 23.\, 26. Febru
 ar und 5. März\, Luxemburg & VERLEGT auf Online (ursprünglicher Termin: 29.
 -30.6.2020)</p><p><a href="https://www.mpi.lu/news-and-events/upcoming-even
 ts/detail/detail/comparative-procedural-law-and-justice-1/">https://www.mpi
 .lu/news-and-events/upcoming-events/detail/detail/comparative-procedural-la
 w-and-justice-1/</a></p><p> </p><p>[av_button label='iCal-Export' link='./f
 eed/eo-events' link_target='' size='small' position='center' label_display=
 '' title_attr='' icon_select='yes' icon='ue85b' font='entypo-fontello' colo
 r='custom' custom_bg='#b5123e' custom_font='#ffffff' av_uid='' id='' custom
 _class='' admin_preview_bg='']</p>
CATEGORIES:Europäisches / Internationales Recht,Öffentliches Recht,Recht interdisziplinär,Strafrecht,Zivilrecht
LOCATION:Online
GEO:0.000000;0.000000
ORGANIZER;CN="ViFa-Recht":MAILTO:vifa-recht@sbb.spk-berlin.de
URL;VALUE=URI:https://events.intrecht.de/termine/termin/comparative-procedu
 ral-law-and-justice-konferenz-5/
END:VEVENT
BEGIN:VTIMEZONE
TZID:Europe/Berlin
BEGIN:STANDARD
TZOFFSETFROM:+0200
TZOFFSETTO:+0100
DTSTART:20201025T010000
TZNAME:CET
END:STANDARD
END:VTIMEZONE
END:VCALENDAR
