BEGIN:VCALENDAR
VERSION:2.0
PRODID:-//Events | FID-Recht//NONSGML Events//EN
CALSCALE:GREGORIAN
X-ORIGINAL-URL:https://events.intrecht.de/termine/
X-WR-CALDESC:Events | FID-Recht - Events
BEGIN:VEVENT
UID:20210216T0903Z-1613466192.7659-EO-3179-1@172.16.200.141
STATUS:CONFIRMED
DTSTAMP:20260421T102402Z
CREATED:20210126T104509Z
LAST-MODIFIED:20210126T104509Z
DTSTART;VALUE=DATE:20210115
DTEND;VALUE=DATE:20210115
SUMMARY: Comparative Procedural Law and Justice (2nd CPLJ Webinar) (Webinar
 )
DESCRIPTION: 15.1.2021\, Online https://www.mpi.lu/news-and-events/2021/jan
 uary/15/comparative-procedural-law-and-justice/  
X-ALT-DESC;FMTTYPE=text/html: <p>15.1.2021\, Online</p><p><a href="https://
 www.mpi.lu/news-and-events/2021/january/15/comparative-procedural-law-and-j
 ustice/">https://www.mpi.lu/news-and-events/2021/january/15/comparative-pro
 cedural-law-and-justice/</a></p><p> </p><p>[av_button label='iCal-Export' l
 ink='./feed/eo-events' link_target='' size='small' position='center' label_
 display='' title_attr='' icon_select='yes' icon='ue85b' font='entypo-fontel
 lo' color='custom' custom_bg='#b5123e' custom_font='#ffffff' av_uid='' id='
 ' custom_class='' admin_preview_bg='']</p>
CATEGORIES:Recht interdisziplinär
LOCATION:Online
GEO:0.000000;0.000000
ORGANIZER;CN="ViFa-Recht":MAILTO:vifa-recht@sbb.spk-berlin.de
URL;VALUE=URI:https://events.intrecht.de/termine/termin/comparative-procedu
 ral-law-and-justice-2nd-cplj-webinar-webinar/
END:VEVENT
BEGIN:VTIMEZONE
TZID:Europe/Berlin
BEGIN:STANDARD
TZOFFSETFROM:+0200
TZOFFSETTO:+0100
DTSTART:20201025T010000
TZNAME:CET
END:STANDARD
END:VTIMEZONE
END:VCALENDAR
