BEGIN:VCALENDAR
VERSION:2.0
PRODID:-//Events | FID-Recht//NONSGML Events//EN
CALSCALE:GREGORIAN
X-ORIGINAL-URL:https://events.intrecht.de/termine/
X-WR-CALDESC:Events | FID-Recht - Events
BEGIN:VEVENT
UID:20200618T1757Z-1592503022.9644-EO-981-1@172.16.200.141
STATUS:CONFIRMED
DTSTAMP:20260421T102925Z
CREATED:20200605T120517Z
LAST-MODIFIED:20200605T121409Z
DTSTART;VALUE=DATE:20200715
DTEND;VALUE=DATE:20200716
SUMMARY: Comparative Legal History – Annual Meeting of the American Society
  of Comparative Law (Call for Panels & Papers)
DESCRIPTION: 15.-16.10.2020\, Boston / Online https://lawlit.blogspot.com/2
 020/05/call-for-concurrent-panel-and-paper.html  
X-ALT-DESC;FMTTYPE=text/html: <p>15.-16.10.2020\, Boston / Online</p><p><a 
 href="https://lawlit.blogspot.com/2020/05/call-for-concurrent-panel-and-pap
 er.html">https://lawlit.blogspot.com/2020/05/call-for-concurrent-panel-and-
 paper.html</a></p><p> </p><p>[av_button label='iCal-Export' link='./feed/eo
 -events' link_target='' size='small' position='center' label_display='' tit
 le_attr='' icon_select='yes' icon='ue85b' font='entypo-fontello' color='cus
 tom' custom_bg='#b5123e' custom_font='#ffffff' av_uid='' id='' custom_class
 ='' admin_preview_bg='']</p>
CATEGORIES:Recht interdisziplinär
LOCATION:Online
GEO:0.000000;0.000000
ORGANIZER;CN="ViFa-Recht":MAILTO:vifa-recht@sbb.spk-berlin.de
URL;VALUE=URI:https://events.intrecht.de/termine/termin/comparative-legal-h
 istory-annual-meeting-of-the-american-society-of-comparative-law-online-kon
 ferenz-call/
END:VEVENT
BEGIN:VTIMEZONE
TZID:Europe/Berlin
BEGIN:DAYLIGHT
TZOFFSETFROM:+0100
TZOFFSETTO:+0200
DTSTART:20200329T010000
TZNAME:CEST
END:DAYLIGHT
END:VTIMEZONE
END:VCALENDAR
