BEGIN:VCALENDAR
VERSION:2.0
PRODID:-//Events | FID-Recht//NONSGML Events//EN
CALSCALE:GREGORIAN
X-ORIGINAL-URL:https://events.intrecht.de/termine/
X-WR-CALDESC:Events | FID-Recht - Events
BEGIN:VEVENT
UID:20200603T1418Z-1591193923.3362-EO-587-1@172.16.200.141
STATUS:CONFIRMED
DTSTAMP:20260426T021131Z
CREATED:20231122T100907Z
LAST-MODIFIED:20231122T101642Z
DTSTART;VALUE=DATE:20240605
DTEND;VALUE=DATE:20240607
SUMMARY: Comparative International Legal Policy: National Political Approac
 hes towards International Legal Order (Workshop)
DESCRIPTION: 5.-6.6.2024 / Berlin (Einreichungsfrist: 15.1.2024) https://ww
 w.mpil.de/en/pub/research/areas/public-international-law/tracking-systemic-
 change/ilp.cfm
X-ALT-DESC;FMTTYPE=text/html: <p>5.-6.6.2024 / Berlin <strong>(Einreichungs
 frist: 15.1.2024)</strong></p><p><a href="https://www.mpil.de/en/pub/resear
 ch/areas/public-international-law/tracking-systemic-change/ilp.cfm">https:/
 /www.mpil.de/en/pub/research/areas/public-international-law/tracking-system
 ic-change/ilp.cfm</a></p><p>[av_button label='iCal-Export' link='./feed/eo-
 events' link_target='' size='small' position='center' label_display='' titl
 e_attr='' icon_select='yes' icon='ue85b' font='entypo-fontello' color='cust
 om' custom_bg='#b5123e' custom_font='#ffffff' av_uid='' id='' custom_class=
 '' admin_preview_bg='']</p>
CATEGORIES:Recht interdisziplinär
LOCATION:Inland
GEO:0.000000;0.000000
ORGANIZER;CN="ViFa-Recht":MAILTO:vifa-recht@sbb.spk-berlin.de
URL;VALUE=URI:https://events.intrecht.de/termine/termin/comparative-interna
 tional-legal-policy-national-political-approaches-towards-international-leg
 al-order-workshop/
END:VEVENT
BEGIN:VTIMEZONE
TZID:Europe/Berlin
BEGIN:DAYLIGHT
TZOFFSETFROM:+0100
TZOFFSETTO:+0200
DTSTART:20240331T010000
TZNAME:CEST
END:DAYLIGHT
END:VTIMEZONE
END:VCALENDAR
