BEGIN:VCALENDAR
VERSION:2.0
PRODID:-//Events | FID-Recht//NONSGML Events//EN
CALSCALE:GREGORIAN
X-ORIGINAL-URL:https://events.intrecht.de/termine/
X-WR-CALDESC:Events | FID-Recht - Events
BEGIN:VEVENT
UID:20230420T1533Z-1682004812.0499-EO-12761-1@172.16.200.151
STATUS:CONFIRMED
DTSTAMP:20260425T132144Z
CREATED:20230209T151717Z
LAST-MODIFIED:20230209T151717Z
DTSTART;VALUE=DATE:20231020
DTEND;VALUE=DATE:20231022
SUMMARY: Comparative Constitutional Law in the Global South (Workshop)
DESCRIPTION: 20.-21.10.2023 / New York (Frist für Einreichungen: 1.3.2023) 
 https://www.law.columbia.edu/faculty-scholarship/workshops-lectures-and-col
 loquia/comparative-constitutional-law-global-south  
X-ALT-DESC;FMTTYPE=text/html: <p>20.-21.10.2023 / New York <strong>(Frist f
 ür Einreichungen: 1.3.2023)</strong></p><p><a href="https://www.law.columbi
 a.edu/faculty-scholarship/workshops-lectures-and-colloquia/comparative-cons
 titutional-law-global-south">https://www.law.columbia.edu/faculty-scholarsh
 ip/workshops-lectures-and-colloquia/comparative-constitutional-law-global-s
 outh</a></p><p> </p><p>[av_button label='iCal-Export' link='./feed/eo-event
 s' link_target='' size='small' position='center' label_display='' title_att
 r='' icon_select='yes' icon='ue85b' font='entypo-fontello' color='custom' c
 ustom_bg='#b5123e' custom_font='#ffffff' av_uid='' id='' custom_class='' ad
 min_preview_bg='']</p>
CATEGORIES:Öffentliches Recht
LOCATION:Ausland
GEO:0.000000;0.000000
ORGANIZER;CN="ViFa-Recht":MAILTO:vifa-recht@sbb.spk-berlin.de
URL;VALUE=URI:https://events.intrecht.de/termine/termin/comparative-constit
 utional-law-in-the-global-south-workshop/
END:VEVENT
BEGIN:VTIMEZONE
TZID:Europe/Berlin
BEGIN:DAYLIGHT
TZOFFSETFROM:+0100
TZOFFSETTO:+0200
DTSTART:20230326T010000
TZNAME:CEST
END:DAYLIGHT
END:VTIMEZONE
END:VCALENDAR
