BEGIN:VCALENDAR
VERSION:2.0
PRODID:-//Events | FID-Recht//NONSGML Events//EN
CALSCALE:GREGORIAN
X-ORIGINAL-URL:https://events.intrecht.de/termine/
X-WR-CALDESC:Events | FID-Recht - Events
BEGIN:VEVENT
UID:20200603T1418Z-1591193923.3362-EO-587-1@172.16.200.141
STATUS:CONFIRMED
DTSTAMP:20260425T133859Z
CREATED:20230412T113933Z
LAST-MODIFIED:20230412T113933Z
DTSTART;VALUE=DATE:20230929
DTEND;VALUE=DATE:20231003
SUMMARY: Communities of Fear (International Conference)
DESCRIPTION: 29.9.-2.10.2023 / Amsterdam (Frist für Einreichungen: 30.4.202
 3) https://agya.info/publications/calls/communities-of-fear
X-ALT-DESC;FMTTYPE=text/html: <p>29.9.-2.10.2023 / Amsterdam <strong>(Frist
  für Einreichungen: 30.4.2023)</strong></p><p><a href="https://agya.info/pu
 blications/calls/communities-of-fear">https://agya.info/publications/calls/
 communities-of-fear</a></p><p>[av_button label='iCal-Export' link='./feed/e
 o-events' link_target='' size='small' position='center' label_display='' ti
 tle_attr='' icon_select='yes' icon='ue85b' font='entypo-fontello' color='cu
 stom' custom_bg='#b5123e' custom_font='#ffffff' av_uid='' id='' custom_clas
 s='' admin_preview_bg='']</p>
CATEGORIES:Recht interdisziplinär
LOCATION:Ausland
GEO:0.000000;0.000000
ORGANIZER;CN="ViFa-Recht":MAILTO:vifa-recht@sbb.spk-berlin.de
URL;VALUE=URI:https://events.intrecht.de/termine/termin/communities-of-fear
 -international-conference/
END:VEVENT
BEGIN:VTIMEZONE
TZID:Europe/Berlin
BEGIN:DAYLIGHT
TZOFFSETFROM:+0100
TZOFFSETTO:+0200
DTSTART:20230326T010000
TZNAME:CEST
END:DAYLIGHT
END:VTIMEZONE
END:VCALENDAR
