BEGIN:VCALENDAR
VERSION:2.0
PRODID:-//Events | FID-Recht//NONSGML Events//EN
CALSCALE:GREGORIAN
X-ORIGINAL-URL:https://events.intrecht.de/termine/
X-WR-CALDESC:Events | FID-Recht - Events
BEGIN:VEVENT
UID:20200603T1418Z-1591193923.3362-EO-587-1@172.16.200.141
STATUS:CONFIRMED
DTSTAMP:20260425T144215Z
CREATED:20230905T104413Z
LAST-MODIFIED:20230905T104413Z
DTSTART;VALUE=DATE:20231213
DTEND;VALUE=DATE:20231214
SUMMARY: Common Interests and Common Spaces: Institutional Approaches to Di
 spute Settlement (Workshop)
DESCRIPTION: 13.12.2023 / Den Haag (Einreichungsfrist: 28.9.2023) https://w
 ww.universiteitleiden.nl/en/news/2023/09/call-for-papers—common-interests-a
 nd-common-spaces-institutional-approaches-to-dispute-settlement
X-ALT-DESC;FMTTYPE=text/html: <p>13.12.2023 / Den Haag <strong>(Einreichung
 sfrist: 28.9.2023)</strong></p><p><a href="https://www.universiteitleiden.n
 l/en/news/2023/09/call-for-papers---common-interests-and-common-spaces-inst
 itutional-approaches-to-dispute-settlement">https://www.universiteitleiden.
 nl/en/news/2023/09/call-for-papers---common-interests-and-common-spaces-ins
 titutional-approaches-to-dispute-settlement</a></p><p>[av_button label='iCa
 l-Export' link='./feed/eo-events' link_target='' size='small' position='cen
 ter' label_display='' title_attr='' icon_select='yes' icon='ue85b' font='en
 typo-fontello' color='custom' custom_bg='#b5123e' custom_font='#ffffff' av_
 uid='' id='' custom_class='' admin_preview_bg='']</p>
CATEGORIES:Recht interdisziplinär
LOCATION:Ausland
GEO:0.000000;0.000000
ORGANIZER;CN="ViFa-Recht":MAILTO:vifa-recht@sbb.spk-berlin.de
URL;VALUE=URI:https://events.intrecht.de/termine/termin/common-interests-an
 d-common-spaces-institutional-approaches-to-dispute-settlement-workshop/
END:VEVENT
BEGIN:VTIMEZONE
TZID:Europe/Berlin
BEGIN:STANDARD
TZOFFSETFROM:+0200
TZOFFSETTO:+0100
DTSTART:20231029T010000
TZNAME:CET
END:STANDARD
END:VTIMEZONE
END:VCALENDAR
