BEGIN:VCALENDAR
VERSION:2.0
PRODID:-//Events | FID-Recht//NONSGML Events//EN
CALSCALE:GREGORIAN
X-ORIGINAL-URL:https://events.intrecht.de/termine/
X-WR-CALDESC:Events | FID-Recht - Events
BEGIN:VEVENT
UID:20200929T1452Z-1601391168.6595-EO-1547-1@172.16.200.141
STATUS:CONFIRMED
DTSTAMP:20260421T102659Z
CREATED:20200922T171347Z
LAST-MODIFIED:20200922T171347Z
DTSTART;VALUE=DATE:20210309
DTEND;VALUE=DATE:20210315
SUMMARY: Coming of Age on Earth – Legacies and Next Generation Anthropology
  / Panel “Post/Neo/Colonialism and the Workings of Affect” (Konferenz)
DESCRIPTION: 9.-14.3.2021\, Šibenik https://www.sfb-affective-societies.de/
 en/veranstaltungen/news/2020-03-01_CfP_IUAES_Panel.html https://iuaes2020.c
 onventuscredo.hr/  
X-ALT-DESC;FMTTYPE=text/html: <p><span style="display: inline !important\; 
 float: none\; background-color: #ffffff\; color: #333333\; cursor: text\; f
 ont-family: Georgia\,'Times New Roman'\,'Bitstream Charter'\,Times\,serif\;
  font-size: 16px\; font-style: normal\; font-variant: normal\; font-weight:
  400\; letter-spacing: normal\; orphans: 2\; text-align: left\; text-decora
 tion: none\; text-indent: 0px\; text-transform: none\; -webkit-text-stroke-
 width: 0px\; white-space: normal\; word-spacing: 0px\;">9.-14.3.2021</span>
 \, Šibenik</p><p><a href="https://www.sfb-affective-societies.de/en/veranst
 altungen/news/2020-03-01_CfP_IUAES_Panel.html">https://www.sfb-affective-so
 cieties.de/en/veranstaltungen/news/2020-03-01_CfP_IUAES_Panel.html</a></p><
 p><a href="https://iuaes2020.conventuscredo.hr/">https://iuaes2020.conventu
 scredo.hr/</a></p><p> </p><p>[av_button label='iCal-Export' link='./feed/eo
 -events' link_target='' size='small' position='center' label_display='' tit
 le_attr='' icon_select='yes' icon='ue85b' font='entypo-fontello' color='cus
 tom' custom_bg='#b5123e' custom_font='#ffffff' av_uid='' id='' custom_class
 ='' admin_preview_bg='']</p>
CATEGORIES:Recht interdisziplinär
LOCATION:Ausland
GEO:0.000000;0.000000
ORGANIZER;CN="ViFa-Recht":MAILTO:vifa-recht@sbb.spk-berlin.de
URL;VALUE=URI:https://events.intrecht.de/termine/termin/coming-of-age-on-ea
 rth-legacies-and-next-generation-anthropology-panel-post-neo-colonialism-an
 d-the-workings-of-affect-konferenz/
END:VEVENT
BEGIN:VTIMEZONE
TZID:Europe/Berlin
BEGIN:STANDARD
TZOFFSETFROM:+0200
TZOFFSETTO:+0100
DTSTART:20201025T010000
TZNAME:CET
END:STANDARD
END:VTIMEZONE
END:VCALENDAR
