BEGIN:VCALENDAR
VERSION:2.0
PRODID:-//Events | FID-Recht//NONSGML Events//EN
CALSCALE:GREGORIAN
X-ORIGINAL-URL:https://events.intrecht.de/termine/
X-WR-CALDESC:Events | FID-Recht - Events
BEGIN:VEVENT
UID:20201216T2316Z-1608160585.1262-EO-2902-1@172.16.200.141
STATUS:CONFIRMED
DTSTAMP:20260423T005508Z
CREATED:20201211T184226Z
LAST-MODIFIED:20201211T184226Z
DTSTART;VALUE=DATE:20210513
DTEND;VALUE=DATE:20210513
SUMMARY: Colonial Capitalism in Action – The New Social and Economic Histor
 y of German Colonialism (Workshop)
DESCRIPTION: 13.5.2021\, Hamburg (Frist für Einreichungen: 15.1.2021) https
 ://kolonialismus.blogs.uni-hamburg.de/2020/12/03/cfp-colonial-capitalism-in
 -action-the-new-social-and-economic-history-of-german-colonialism-5th-and-6
 th-may-2021/  
X-ALT-DESC;FMTTYPE=text/html: <p>13.5.2021\, Hamburg (Frist für Einreichung
 en: 15.1.2021)</p><p><a href="https://kolonialismus.blogs.uni-hamburg.de/20
 20/12/03/cfp-colonial-capitalism-in-action-the-new-social-and-economic-hist
 ory-of-german-colonialism-5th-and-6th-may-2021/">https://kolonialismus.blog
 s.uni-hamburg.de/2020/12/03/cfp-colonial-capitalism-in-action-the-new-socia
 l-and-economic-history-of-german-colonialism-5th-and-6th-may-2021/</a></p><
 p> </p><p>[av_button label='iCal-Export' link='./feed/eo-events' link_targe
 t='' size='small' position='center' label_display='' title_attr='' icon_sel
 ect='yes' icon='ue85b' font='entypo-fontello' color='custom' custom_bg='#b5
 123e' custom_font='#ffffff' av_uid='' id='' custom_class='' admin_preview_b
 g='']</p>
CATEGORIES:Recht interdisziplinär
LOCATION:Inland
GEO:0.000000;0.000000
ORGANIZER;CN="ViFa-Recht":MAILTO:vifa-recht@sbb.spk-berlin.de
URL;VALUE=URI:https://events.intrecht.de/termine/termin/colonial-capitalism
 -in-action-the-new-social-and-economic-history-of-german-colonialism-worksh
 op/
END:VEVENT
BEGIN:VTIMEZONE
TZID:Europe/Berlin
BEGIN:DAYLIGHT
TZOFFSETFROM:+0100
TZOFFSETTO:+0200
DTSTART:20210328T010000
TZNAME:CEST
END:DAYLIGHT
END:VTIMEZONE
END:VCALENDAR
