BEGIN:VCALENDAR
VERSION:2.0
PRODID:-//Events | FID-Recht//NONSGML Events//EN
CALSCALE:GREGORIAN
X-ORIGINAL-URL:https://events.intrecht.de/termine/
X-WR-CALDESC:Events | FID-Recht - Events
BEGIN:VEVENT
UID:20211105T1415Z-1636121751.1901-EO-4949-1@172.16.200.141
STATUS:CONFIRMED
DTSTAMP:20260425T164917Z
CREATED:20211028T160755Z
LAST-MODIFIED:20211028T160755Z
DTSTART;VALUE=DATE:20220110
DTEND;VALUE=DATE:20220129
SUMMARY: Collegium of Roman Law – Agere per formulas: The Forms and Dynamic
 s of Civil Justice in the Roman World (Intensiv-Kolleg)
DESCRIPTION: 10.-28.1.2022\, Pavia (Frist für Einreichungen: 21.10.2021) ht
 tps://forhistiur.net/news/2021-10-14-collegium-of-roman-law-agere-per-formu
 las-the-forms-and-dynamics-of-civil-justice-in-the-roman-world/  
X-ALT-DESC;FMTTYPE=text/html: <p>10.-28.1.2022\, Pavia (Frist für Einreichu
 ngen: 21.10.2021)</p><p><a href="https://forhistiur.net/news/2021-10-14-col
 legium-of-roman-law-agere-per-formulas-the-forms-and-dynamics-of-civil-just
 ice-in-the-roman-world/">https://forhistiur.net/news/2021-10-14-collegium-o
 f-roman-law-agere-per-formulas-the-forms-and-dynamics-of-civil-justice-in-t
 he-roman-world/</a></p><p> </p><p>[av_button label='iCal-Export' link='./fe
 ed/eo-events' link_target='' size='small' position='center' label_display='
 ' title_attr='' icon_select='yes' icon='ue85b' font='entypo-fontello' color
 ='custom' custom_bg='#b5123e' custom_font='#ffffff' av_uid='' id='' custom_
 class='' admin_preview_bg='']</p>
CATEGORIES:Recht interdisziplinär
LOCATION:Ausland
GEO:0.000000;0.000000
ORGANIZER;CN="ViFa-Recht":MAILTO:vifa-recht@sbb.spk-berlin.de
URL;VALUE=URI:https://events.intrecht.de/termine/termin/collegium-of-roman-
 law-agere-per-formulas-the-forms-and-dynamics-of-civil-justice-in-the-roman
 -world-intensiv-kolleg/
END:VEVENT
BEGIN:VTIMEZONE
TZID:Europe/Berlin
BEGIN:STANDARD
TZOFFSETFROM:+0200
TZOFFSETTO:+0100
DTSTART:20211031T010000
TZNAME:CET
END:STANDARD
END:VTIMEZONE
END:VCALENDAR
